BEGIN:VCALENDAR
VERSION:2.0
PRODID:-//Scarlet Alliance - ECPv6.15.12.2//NONSGML v1.0//EN
CALSCALE:GREGORIAN
METHOD:PUBLISH
X-ORIGINAL-URL:https://scarletalliance.org.au
X-WR-CALDESC:Events for Scarlet Alliance
REFRESH-INTERVAL;VALUE=DURATION:PT1H
X-Robots-Tag:noindex
X-PUBLISHED-TTL:PT1H
BEGIN:VTIMEZONE
TZID:Australia/Sydney
BEGIN:STANDARD
TZOFFSETFROM:+1100
TZOFFSETTO:+1000
TZNAME:AEST
DTSTART:20240406T160000
END:STANDARD
BEGIN:DAYLIGHT
TZOFFSETFROM:+1000
TZOFFSETTO:+1100
TZNAME:AEDT
DTSTART:20241005T160000
END:DAYLIGHT
BEGIN:STANDARD
TZOFFSETFROM:+1100
TZOFFSETTO:+1000
TZNAME:AEST
DTSTART:20250405T160000
END:STANDARD
BEGIN:DAYLIGHT
TZOFFSETFROM:+1000
TZOFFSETTO:+1100
TZNAME:AEDT
DTSTART:20251004T160000
END:DAYLIGHT
BEGIN:STANDARD
TZOFFSETFROM:+1100
TZOFFSETTO:+1000
TZNAME:AEST
DTSTART:20260404T160000
END:STANDARD
BEGIN:DAYLIGHT
TZOFFSETFROM:+1000
TZOFFSETTO:+1100
TZNAME:AEDT
DTSTART:20261003T160000
END:DAYLIGHT
END:VTIMEZONE
BEGIN:VEVENT
DTSTART;TZID=Australia/Sydney:20250826T150000
DTEND;TZID=Australia/Sydney:20250826T170000
DTSTAMP:20260422T164143
CREATED:20250303T235526Z
LAST-MODIFIED:20250304T000940Z
UID:10000535-1756220400-1756227600@scarletalliance.org.au
SUMMARY:VIXEN Trans & Gender Diverse Sex Worker Monthly Catch-Up
DESCRIPTION:Join us at the Vixen office for a catch-up exclusively for Trans and Gender Diverse sex workers to connect\, share experiences\, and just relax in a safe\, supportive space. Snacks provided. No need to RSVP – just turn up! \nThis is a sex worker-only space and a time to connect with other workers. \nWhen: 3pm – 5pm on the last Tuesday of every month at 5 Merrifield St\, Brunswick.\nGive us a call at 03 9070 9050 or send us an email at info@vixen.org.au for more details!
URL:https://scarletalliance.org.au/event/vixen-trans-gender-diverse-sex-worker-monthly-catch-up/2025-08-26/
LOCATION:Vixen\, Corner of Merrifield St and Boase St\, Brunswick\, Victoria\, 3056\, Australia
CATEGORIES:Drop In
ATTACH;FMTTYPE=image/png:https://scarletalliance.org.au/wp-content/uploads/Screenshot-2025-03-04-105028.png
ORGANIZER;CN="Vixen":MAILTO:info@vixen.org.au
END:VEVENT
BEGIN:VEVENT
DTSTART;TZID=Australia/Sydney:20250827T150000
DTEND;TZID=Australia/Sydney:20250827T170000
DTSTAMP:20260422T164143
CREATED:20250304T000002Z
LAST-MODIFIED:20250723T235431Z
UID:10000545-1756306800-1756314000@scarletalliance.org.au
SUMMARY:VIXEN Male Sex Worker Monthly Catch-Up
DESCRIPTION:Join us at the Vixen office for a catch-up exclusively for male sex workers to connect in solidarity\, chat\, and chill. Snacks provided. No need to RSVP – just turn up! \nThis is a sex worker-only space. \nWhen: 3pm –  5pm on the last Wednesday of every month at 5 Merrifield St\, Brunswick.\nGive us a call at 03 9070 9050 or send us an email at info@vixen.org.au for more details!
URL:https://scarletalliance.org.au/event/vixen-male-sex-worker-monthly-catch-up/2025-08-27/
LOCATION:Vixen\, Corner of Merrifield St and Boase St\, Brunswick\, Victoria\, 3056\, Australia
CATEGORIES:Drop In
ATTACH;FMTTYPE=image/png:https://scarletalliance.org.au/wp-content/uploads/Screenshot-2025-03-04-105743.png
ORGANIZER;CN="Vixen":MAILTO:info@vixen.org.au
END:VEVENT
BEGIN:VEVENT
DTSTART;TZID=Australia/Sydney:20250904T130000
DTEND;TZID=Australia/Sydney:20250904T150000
DTSTAMP:20260422T164143
CREATED:20250304T002808Z
LAST-MODIFIED:20250304T002808Z
UID:10000569-1756990800-1756998000@scarletalliance.org.au
SUMMARY:VIXEN Workers Pack-Making
DESCRIPTION:Join Vixen on the first Thursday of the month from 1pm – 3pm to help assemble workers packs for distribution to other sex workers. Tea\, coffee and snacks will be provided. Held at the Vixen office on the corner of Boase Street & Merrifield Street\, Brunswick (look for the red door).
URL:https://scarletalliance.org.au/event/vixen-workers-pack-making-3/2025-09-04/
LOCATION:Vixen\, Corner of Merrifield St and Boase St\, Brunswick\, Victoria\, 3056\, Australia
CATEGORIES:Drop In
ATTACH;FMTTYPE=image/png:https://scarletalliance.org.au/wp-content/uploads/Screenshot-2025-03-04-112415.png
ORGANIZER;CN="Vixen":MAILTO:info@vixen.org.au
END:VEVENT
BEGIN:VEVENT
DTSTART;TZID=Australia/Sydney:20250924T150000
DTEND;TZID=Australia/Sydney:20250924T170000
DTSTAMP:20260422T164143
CREATED:20250304T000002Z
LAST-MODIFIED:20250723T235431Z
UID:10000546-1758726000-1758733200@scarletalliance.org.au
SUMMARY:VIXEN Male Sex Worker Monthly Catch-Up
DESCRIPTION:Join us at the Vixen office for a catch-up exclusively for male sex workers to connect in solidarity\, chat\, and chill. Snacks provided. No need to RSVP – just turn up! \nThis is a sex worker-only space. \nWhen: 3pm –  5pm on the last Wednesday of every month at 5 Merrifield St\, Brunswick.\nGive us a call at 03 9070 9050 or send us an email at info@vixen.org.au for more details!
URL:https://scarletalliance.org.au/event/vixen-male-sex-worker-monthly-catch-up/2025-09-24/
LOCATION:Vixen\, Corner of Merrifield St and Boase St\, Brunswick\, Victoria\, 3056\, Australia
CATEGORIES:Drop In
ATTACH;FMTTYPE=image/png:https://scarletalliance.org.au/wp-content/uploads/Screenshot-2025-03-04-105743.png
ORGANIZER;CN="Vixen":MAILTO:info@vixen.org.au
END:VEVENT
BEGIN:VEVENT
DTSTART;TZID=Australia/Sydney:20250930T150000
DTEND;TZID=Australia/Sydney:20250930T170000
DTSTAMP:20260422T164143
CREATED:20250303T235526Z
LAST-MODIFIED:20250304T000940Z
UID:10000536-1759244400-1759251600@scarletalliance.org.au
SUMMARY:VIXEN Trans & Gender Diverse Sex Worker Monthly Catch-Up
DESCRIPTION:Join us at the Vixen office for a catch-up exclusively for Trans and Gender Diverse sex workers to connect\, share experiences\, and just relax in a safe\, supportive space. Snacks provided. No need to RSVP – just turn up! \nThis is a sex worker-only space and a time to connect with other workers. \nWhen: 3pm – 5pm on the last Tuesday of every month at 5 Merrifield St\, Brunswick.\nGive us a call at 03 9070 9050 or send us an email at info@vixen.org.au for more details!
URL:https://scarletalliance.org.au/event/vixen-trans-gender-diverse-sex-worker-monthly-catch-up/2025-09-30/
LOCATION:Vixen\, Corner of Merrifield St and Boase St\, Brunswick\, Victoria\, 3056\, Australia
CATEGORIES:Drop In
ATTACH;FMTTYPE=image/png:https://scarletalliance.org.au/wp-content/uploads/Screenshot-2025-03-04-105028.png
ORGANIZER;CN="Vixen":MAILTO:info@vixen.org.au
END:VEVENT
BEGIN:VEVENT
DTSTART;TZID=Australia/Sydney:20251002T130000
DTEND;TZID=Australia/Sydney:20251002T150000
DTSTAMP:20260422T164143
CREATED:20250304T002808Z
LAST-MODIFIED:20250304T002808Z
UID:10000570-1759410000-1759417200@scarletalliance.org.au
SUMMARY:VIXEN Workers Pack-Making
DESCRIPTION:Join Vixen on the first Thursday of the month from 1pm – 3pm to help assemble workers packs for distribution to other sex workers. Tea\, coffee and snacks will be provided. Held at the Vixen office on the corner of Boase Street & Merrifield Street\, Brunswick (look for the red door).
URL:https://scarletalliance.org.au/event/vixen-workers-pack-making-3/2025-10-02/
LOCATION:Vixen\, Corner of Merrifield St and Boase St\, Brunswick\, Victoria\, 3056\, Australia
CATEGORIES:Drop In
ATTACH;FMTTYPE=image/png:https://scarletalliance.org.au/wp-content/uploads/Screenshot-2025-03-04-112415.png
ORGANIZER;CN="Vixen":MAILTO:info@vixen.org.au
END:VEVENT
BEGIN:VEVENT
DTSTART;TZID=Australia/Sydney:20251028T150000
DTEND;TZID=Australia/Sydney:20251028T170000
DTSTAMP:20260422T164143
CREATED:20250303T235526Z
LAST-MODIFIED:20250304T000940Z
UID:10000537-1761663600-1761670800@scarletalliance.org.au
SUMMARY:VIXEN Trans & Gender Diverse Sex Worker Monthly Catch-Up
DESCRIPTION:Join us at the Vixen office for a catch-up exclusively for Trans and Gender Diverse sex workers to connect\, share experiences\, and just relax in a safe\, supportive space. Snacks provided. No need to RSVP – just turn up! \nThis is a sex worker-only space and a time to connect with other workers. \nWhen: 3pm – 5pm on the last Tuesday of every month at 5 Merrifield St\, Brunswick.\nGive us a call at 03 9070 9050 or send us an email at info@vixen.org.au for more details!
URL:https://scarletalliance.org.au/event/vixen-trans-gender-diverse-sex-worker-monthly-catch-up/2025-10-28/
LOCATION:Vixen\, Corner of Merrifield St and Boase St\, Brunswick\, Victoria\, 3056\, Australia
CATEGORIES:Drop In
ATTACH;FMTTYPE=image/png:https://scarletalliance.org.au/wp-content/uploads/Screenshot-2025-03-04-105028.png
ORGANIZER;CN="Vixen":MAILTO:info@vixen.org.au
END:VEVENT
BEGIN:VEVENT
DTSTART;TZID=Australia/Sydney:20251029T150000
DTEND;TZID=Australia/Sydney:20251029T170000
DTSTAMP:20260422T164143
CREATED:20250304T000002Z
LAST-MODIFIED:20250723T235431Z
UID:10000547-1761750000-1761757200@scarletalliance.org.au
SUMMARY:VIXEN Male Sex Worker Monthly Catch-Up
DESCRIPTION:Join us at the Vixen office for a catch-up exclusively for male sex workers to connect in solidarity\, chat\, and chill. Snacks provided. No need to RSVP – just turn up! \nThis is a sex worker-only space. \nWhen: 3pm –  5pm on the last Wednesday of every month at 5 Merrifield St\, Brunswick.\nGive us a call at 03 9070 9050 or send us an email at info@vixen.org.au for more details!
URL:https://scarletalliance.org.au/event/vixen-male-sex-worker-monthly-catch-up/2025-10-29/
LOCATION:Vixen\, Corner of Merrifield St and Boase St\, Brunswick\, Victoria\, 3056\, Australia
CATEGORIES:Drop In
ATTACH;FMTTYPE=image/png:https://scarletalliance.org.au/wp-content/uploads/Screenshot-2025-03-04-105743.png
ORGANIZER;CN="Vixen":MAILTO:info@vixen.org.au
END:VEVENT
BEGIN:VEVENT
DTSTART;TZID=Australia/Sydney:20251106T130000
DTEND;TZID=Australia/Sydney:20251106T150000
DTSTAMP:20260422T164143
CREATED:20250304T002808Z
LAST-MODIFIED:20250304T002808Z
UID:10000571-1762434000-1762441200@scarletalliance.org.au
SUMMARY:VIXEN Workers Pack-Making
DESCRIPTION:Join Vixen on the first Thursday of the month from 1pm – 3pm to help assemble workers packs for distribution to other sex workers. Tea\, coffee and snacks will be provided. Held at the Vixen office on the corner of Boase Street & Merrifield Street\, Brunswick (look for the red door).
URL:https://scarletalliance.org.au/event/vixen-workers-pack-making-3/2025-11-06/
LOCATION:Vixen\, Corner of Merrifield St and Boase St\, Brunswick\, Victoria\, 3056\, Australia
CATEGORIES:Drop In
ATTACH;FMTTYPE=image/png:https://scarletalliance.org.au/wp-content/uploads/Screenshot-2025-03-04-112415.png
ORGANIZER;CN="Vixen":MAILTO:info@vixen.org.au
END:VEVENT
BEGIN:VEVENT
DTSTART;TZID=Australia/Sydney:20251120T143000
DTEND;TZID=Australia/Sydney:20251120T163000
DTSTAMP:20260422T164143
CREATED:20250304T000624Z
LAST-MODIFIED:20250304T000803Z
UID:10000552-1763649000-1763656200@scarletalliance.org.au
SUMMARY:VIXEN Private Sex Workers Catch-Up
DESCRIPTION:Vixen has introduced a regular catch-up for all private and independent sex workers. Come in for a tea and snacks\, connect with other workers\, stock-up on free resources and safer sex supplies\, and browse the Whoredrobe 💫 No RSVP needed – just pop in ❤️ \n2025 Catch-Ups:\nThursday May 15 | 2:30pm – 4:30pm\nThursday August 21 | 2:30pm – 4:30pm\nThursday November 20 | 2:30pm – 4:30pm
URL:https://scarletalliance.org.au/event/vixen-private-sex-workers-catch-up/2025-11-20/
LOCATION:Vixen\, Corner of Merrifield St and Boase St\, Brunswick\, Victoria\, 3056\, Australia
CATEGORIES:Drop In
ATTACH;FMTTYPE=image/png:https://scarletalliance.org.au/wp-content/uploads/Screenshot-2025-03-04-110221.png
ORGANIZER;CN="Vixen":MAILTO:info@vixen.org.au
END:VEVENT
BEGIN:VEVENT
DTSTART;TZID=Australia/Sydney:20251125T150000
DTEND;TZID=Australia/Sydney:20251125T170000
DTSTAMP:20260422T164143
CREATED:20250303T235526Z
LAST-MODIFIED:20250304T000940Z
UID:10000538-1764082800-1764090000@scarletalliance.org.au
SUMMARY:VIXEN Trans & Gender Diverse Sex Worker Monthly Catch-Up
DESCRIPTION:Join us at the Vixen office for a catch-up exclusively for Trans and Gender Diverse sex workers to connect\, share experiences\, and just relax in a safe\, supportive space. Snacks provided. No need to RSVP – just turn up! \nThis is a sex worker-only space and a time to connect with other workers. \nWhen: 3pm – 5pm on the last Tuesday of every month at 5 Merrifield St\, Brunswick.\nGive us a call at 03 9070 9050 or send us an email at info@vixen.org.au for more details!
URL:https://scarletalliance.org.au/event/vixen-trans-gender-diverse-sex-worker-monthly-catch-up/2025-11-25/
LOCATION:Vixen\, Corner of Merrifield St and Boase St\, Brunswick\, Victoria\, 3056\, Australia
CATEGORIES:Drop In
ATTACH;FMTTYPE=image/png:https://scarletalliance.org.au/wp-content/uploads/Screenshot-2025-03-04-105028.png
ORGANIZER;CN="Vixen":MAILTO:info@vixen.org.au
END:VEVENT
BEGIN:VEVENT
DTSTART;TZID=Australia/Sydney:20251126T150000
DTEND;TZID=Australia/Sydney:20251126T170000
DTSTAMP:20260422T164143
CREATED:20250304T000002Z
LAST-MODIFIED:20250723T235431Z
UID:10000548-1764169200-1764176400@scarletalliance.org.au
SUMMARY:VIXEN Male Sex Worker Monthly Catch-Up
DESCRIPTION:Join us at the Vixen office for a catch-up exclusively for male sex workers to connect in solidarity\, chat\, and chill. Snacks provided. No need to RSVP – just turn up! \nThis is a sex worker-only space. \nWhen: 3pm –  5pm on the last Wednesday of every month at 5 Merrifield St\, Brunswick.\nGive us a call at 03 9070 9050 or send us an email at info@vixen.org.au for more details!
URL:https://scarletalliance.org.au/event/vixen-male-sex-worker-monthly-catch-up/2025-11-26/
LOCATION:Vixen\, Corner of Merrifield St and Boase St\, Brunswick\, Victoria\, 3056\, Australia
CATEGORIES:Drop In
ATTACH;FMTTYPE=image/png:https://scarletalliance.org.au/wp-content/uploads/Screenshot-2025-03-04-105743.png
ORGANIZER;CN="Vixen":MAILTO:info@vixen.org.au
END:VEVENT
BEGIN:VEVENT
DTSTART;TZID=Australia/Sydney:20251204T130000
DTEND;TZID=Australia/Sydney:20251204T150000
DTSTAMP:20260422T164143
CREATED:20250304T002808Z
LAST-MODIFIED:20250304T002808Z
UID:10000572-1764853200-1764860400@scarletalliance.org.au
SUMMARY:VIXEN Workers Pack-Making
DESCRIPTION:Join Vixen on the first Thursday of the month from 1pm – 3pm to help assemble workers packs for distribution to other sex workers. Tea\, coffee and snacks will be provided. Held at the Vixen office on the corner of Boase Street & Merrifield Street\, Brunswick (look for the red door).
URL:https://scarletalliance.org.au/event/vixen-workers-pack-making-3/2025-12-04/
LOCATION:Vixen\, Corner of Merrifield St and Boase St\, Brunswick\, Victoria\, 3056\, Australia
CATEGORIES:Drop In
ATTACH;FMTTYPE=image/png:https://scarletalliance.org.au/wp-content/uploads/Screenshot-2025-03-04-112415.png
ORGANIZER;CN="Vixen":MAILTO:info@vixen.org.au
END:VEVENT
BEGIN:VEVENT
DTSTART;TZID=Australia/Sydney:20251230T150000
DTEND;TZID=Australia/Sydney:20251230T170000
DTSTAMP:20260422T164143
CREATED:20250303T235526Z
LAST-MODIFIED:20250304T000940Z
UID:10000539-1767106800-1767114000@scarletalliance.org.au
SUMMARY:VIXEN Trans & Gender Diverse Sex Worker Monthly Catch-Up
DESCRIPTION:Join us at the Vixen office for a catch-up exclusively for Trans and Gender Diverse sex workers to connect\, share experiences\, and just relax in a safe\, supportive space. Snacks provided. No need to RSVP – just turn up! \nThis is a sex worker-only space and a time to connect with other workers. \nWhen: 3pm – 5pm on the last Tuesday of every month at 5 Merrifield St\, Brunswick.\nGive us a call at 03 9070 9050 or send us an email at info@vixen.org.au for more details!
URL:https://scarletalliance.org.au/event/vixen-trans-gender-diverse-sex-worker-monthly-catch-up/2025-12-30/
LOCATION:Vixen\, Corner of Merrifield St and Boase St\, Brunswick\, Victoria\, 3056\, Australia
CATEGORIES:Drop In
ATTACH;FMTTYPE=image/png:https://scarletalliance.org.au/wp-content/uploads/Screenshot-2025-03-04-105028.png
ORGANIZER;CN="Vixen":MAILTO:info@vixen.org.au
END:VEVENT
BEGIN:VEVENT
DTSTART;TZID=Australia/Sydney:20251231T150000
DTEND;TZID=Australia/Sydney:20251231T170000
DTSTAMP:20260422T164143
CREATED:20250304T000002Z
LAST-MODIFIED:20250723T235431Z
UID:10000549-1767193200-1767200400@scarletalliance.org.au
SUMMARY:VIXEN Male Sex Worker Monthly Catch-Up
DESCRIPTION:Join us at the Vixen office for a catch-up exclusively for male sex workers to connect in solidarity\, chat\, and chill. Snacks provided. No need to RSVP – just turn up! \nThis is a sex worker-only space. \nWhen: 3pm –  5pm on the last Wednesday of every month at 5 Merrifield St\, Brunswick.\nGive us a call at 03 9070 9050 or send us an email at info@vixen.org.au for more details!
URL:https://scarletalliance.org.au/event/vixen-male-sex-worker-monthly-catch-up/2025-12-31/
LOCATION:Vixen\, Corner of Merrifield St and Boase St\, Brunswick\, Victoria\, 3056\, Australia
CATEGORIES:Drop In
ATTACH;FMTTYPE=image/png:https://scarletalliance.org.au/wp-content/uploads/Screenshot-2025-03-04-105743.png
ORGANIZER;CN="Vixen":MAILTO:info@vixen.org.au
END:VEVENT
END:VCALENDAR