BEGIN:VCALENDAR
VERSION:2.0
PRODID:-//Scarlet Alliance - ECPv6.15.12.2//NONSGML v1.0//EN
CALSCALE:GREGORIAN
METHOD:PUBLISH
X-ORIGINAL-URL:https://scarletalliance.org.au
X-WR-CALDESC:Events for Scarlet Alliance
REFRESH-INTERVAL;VALUE=DURATION:PT1H
X-Robots-Tag:noindex
X-PUBLISHED-TTL:PT1H
BEGIN:VTIMEZONE
TZID:Australia/Sydney
BEGIN:STANDARD
TZOFFSETFROM:+1100
TZOFFSETTO:+1000
TZNAME:AEST
DTSTART:20230401T160000
END:STANDARD
BEGIN:DAYLIGHT
TZOFFSETFROM:+1000
TZOFFSETTO:+1100
TZNAME:AEDT
DTSTART:20230930T160000
END:DAYLIGHT
BEGIN:STANDARD
TZOFFSETFROM:+1100
TZOFFSETTO:+1000
TZNAME:AEST
DTSTART:20240406T160000
END:STANDARD
BEGIN:DAYLIGHT
TZOFFSETFROM:+1000
TZOFFSETTO:+1100
TZNAME:AEDT
DTSTART:20241005T160000
END:DAYLIGHT
BEGIN:STANDARD
TZOFFSETFROM:+1100
TZOFFSETTO:+1000
TZNAME:AEST
DTSTART:20250405T160000
END:STANDARD
BEGIN:DAYLIGHT
TZOFFSETFROM:+1000
TZOFFSETTO:+1100
TZNAME:AEDT
DTSTART:20251004T160000
END:DAYLIGHT
END:VTIMEZONE
BEGIN:VEVENT
DTSTART;TZID=Australia/Sydney:20240911T140000
DTEND;TZID=Australia/Sydney:20240911T160000
DTSTAMP:20260420T033332
CREATED:20240731T054418Z
LAST-MODIFIED:20240731T054418Z
UID:10000457-1726063200-1726070400@scarletalliance.org.au
SUMMARY:Vixen Male Sex Worker Catch-up
DESCRIPTION:A dedicated time for male sex workers\, 2pm – 4pm every Wednesday! Come in for resources\, information\, supplies\, and a supportive community to connect with.
URL:https://scarletalliance.org.au/event/vixen-male-sex-worker-catch-up/2024-09-11/
LOCATION:Vixen\, Corner of Merrifield St and Boase St\, Brunswick\, Victoria\, 3056\, Australia
CATEGORIES:Drop In,Social Event
ATTACH;FMTTYPE=image/png:https://scarletalliance.org.au/wp-content/uploads/Screenshot-2024-07-31-154143.png
ORGANIZER;CN="Vixen":MAILTO:info@vixen.org.au
END:VEVENT
BEGIN:VEVENT
DTSTART;TZID=Australia/Sydney:20240904T140000
DTEND;TZID=Australia/Sydney:20240904T160000
DTSTAMP:20260420T033332
CREATED:20240731T054418Z
LAST-MODIFIED:20240731T054418Z
UID:10000456-1725458400-1725465600@scarletalliance.org.au
SUMMARY:Vixen Male Sex Worker Catch-up
DESCRIPTION:A dedicated time for male sex workers\, 2pm – 4pm every Wednesday! Come in for resources\, information\, supplies\, and a supportive community to connect with.
URL:https://scarletalliance.org.au/event/vixen-male-sex-worker-catch-up/2024-09-04/
LOCATION:Vixen\, Corner of Merrifield St and Boase St\, Brunswick\, Victoria\, 3056\, Australia
CATEGORIES:Drop In,Social Event
ATTACH;FMTTYPE=image/png:https://scarletalliance.org.au/wp-content/uploads/Screenshot-2024-07-31-154143.png
ORGANIZER;CN="Vixen":MAILTO:info@vixen.org.au
END:VEVENT
BEGIN:VEVENT
DTSTART;TZID=Australia/Sydney:20240828T140000
DTEND;TZID=Australia/Sydney:20240828T160000
DTSTAMP:20260420T033332
CREATED:20240731T054418Z
LAST-MODIFIED:20240731T054418Z
UID:10000455-1724853600-1724860800@scarletalliance.org.au
SUMMARY:Vixen Male Sex Worker Catch-up
DESCRIPTION:A dedicated time for male sex workers\, 2pm – 4pm every Wednesday! Come in for resources\, information\, supplies\, and a supportive community to connect with.
URL:https://scarletalliance.org.au/event/vixen-male-sex-worker-catch-up/2024-08-28/
LOCATION:Vixen\, Corner of Merrifield St and Boase St\, Brunswick\, Victoria\, 3056\, Australia
CATEGORIES:Drop In,Social Event
ATTACH;FMTTYPE=image/png:https://scarletalliance.org.au/wp-content/uploads/Screenshot-2024-07-31-154143.png
ORGANIZER;CN="Vixen":MAILTO:info@vixen.org.au
END:VEVENT
BEGIN:VEVENT
DTSTART;TZID=Australia/Sydney:20240822T140000
DTEND;TZID=Australia/Sydney:20240822T170000
DTSTAMP:20260420T033332
CREATED:20240731T053804Z
LAST-MODIFIED:20240731T053804Z
UID:10000451-1724335200-1724346000@scarletalliance.org.au
SUMMARY:Vixen Whoredrobe Swap
DESCRIPTION:Do you have work clothing you don’t wear anymore? Want to pick up a new free work ‘fit? Just wanna hang out with fellow workers? Our Whoredrobe Swap Day will be on again on the 22nd of August\, from 2pm til 5pm at 5 Merrifield St\, Brunswick (look for the red door). Strictly sex worker only. Snacks provided! \nNot sure what to donate? Here are some items we’ve had requests for: \n\nLingerie size 6 to 26\nShoes/heels in sized 6\, 7\, 8\, 10 & 15\nCorsets in size S to XXL\nSuspender belts and stockings\nNew make up\nSexy jackts\, suitable for street-based work e.g. leather\, fur\, crop jackets
URL:https://scarletalliance.org.au/event/vixen-whoredrobe-swap-2/
LOCATION:Vixen\, Corner of Merrifield St and Boase St\, Brunswick\, Victoria\, 3056\, Australia
CATEGORIES:Drop In,Social Event
ATTACH;FMTTYPE=image/png:https://scarletalliance.org.au/wp-content/uploads/Screenshot-2024-07-31-153155.png
ORGANIZER;CN="Vixen":MAILTO:info@vixen.org.au
END:VEVENT
BEGIN:VEVENT
DTSTART;TZID=Australia/Sydney:20240821T140000
DTEND;TZID=Australia/Sydney:20240821T160000
DTSTAMP:20260420T033332
CREATED:20240731T054418Z
LAST-MODIFIED:20240731T054418Z
UID:10000454-1724248800-1724256000@scarletalliance.org.au
SUMMARY:Vixen Male Sex Worker Catch-up
DESCRIPTION:A dedicated time for male sex workers\, 2pm – 4pm every Wednesday! Come in for resources\, information\, supplies\, and a supportive community to connect with.
URL:https://scarletalliance.org.au/event/vixen-male-sex-worker-catch-up/2024-08-21/
LOCATION:Vixen\, Corner of Merrifield St and Boase St\, Brunswick\, Victoria\, 3056\, Australia
CATEGORIES:Drop In,Social Event
ATTACH;FMTTYPE=image/png:https://scarletalliance.org.au/wp-content/uploads/Screenshot-2024-07-31-154143.png
ORGANIZER;CN="Vixen":MAILTO:info@vixen.org.au
END:VEVENT
BEGIN:VEVENT
DTSTART;VALUE=DATE:20240820
DTEND;VALUE=DATE:20240821
DTSTAMP:20260420T033332
CREATED:20240731T055204Z
LAST-MODIFIED:20240731T055221Z
UID:10000465-1724112000-1724198399@scarletalliance.org.au
SUMMARY:SWOP NSW Independent Worker Drop In
DESCRIPTION:Come and chat with our outreach workers at our independent worker drop-ins. There will be snacks\, workers packs\, resources and friendly faces!
URL:https://scarletalliance.org.au/event/swop-nsw-independent-worker-drop-ins/
LOCATION:SWOP NSW\, 7/110 Bontay Rd\, Sydney\, NSW\, 2015\, Australia
CATEGORIES:Drop In
ATTACH;FMTTYPE=image/png:https://scarletalliance.org.au/wp-content/uploads/Screenshot-2024-07-31-154357.png
ORGANIZER;CN="SWOP NSW":MAILTO:swopconnect@swop.org.au
END:VEVENT
BEGIN:VEVENT
DTSTART;TZID=Australia/Sydney:20240814T140000
DTEND;TZID=Australia/Sydney:20240814T160000
DTSTAMP:20260420T033332
CREATED:20240731T054418Z
LAST-MODIFIED:20240731T054418Z
UID:10000453-1723644000-1723651200@scarletalliance.org.au
SUMMARY:Vixen Male Sex Worker Catch-up
DESCRIPTION:A dedicated time for male sex workers\, 2pm – 4pm every Wednesday! Come in for resources\, information\, supplies\, and a supportive community to connect with.
URL:https://scarletalliance.org.au/event/vixen-male-sex-worker-catch-up/2024-08-14/
LOCATION:Vixen\, Corner of Merrifield St and Boase St\, Brunswick\, Victoria\, 3056\, Australia
CATEGORIES:Drop In,Social Event
ATTACH;FMTTYPE=image/png:https://scarletalliance.org.au/wp-content/uploads/Screenshot-2024-07-31-154143.png
ORGANIZER;CN="Vixen":MAILTO:info@vixen.org.au
END:VEVENT
BEGIN:VEVENT
DTSTART;TZID=Australia/Sydney:20240807T140000
DTEND;TZID=Australia/Sydney:20240807T160000
DTSTAMP:20260420T033332
CREATED:20240731T054418Z
LAST-MODIFIED:20240731T054418Z
UID:10000452-1723039200-1723046400@scarletalliance.org.au
SUMMARY:Vixen Male Sex Worker Catch-up
DESCRIPTION:A dedicated time for male sex workers\, 2pm – 4pm every Wednesday! Come in for resources\, information\, supplies\, and a supportive community to connect with.
URL:https://scarletalliance.org.au/event/vixen-male-sex-worker-catch-up/2024-08-07/
LOCATION:Vixen\, Corner of Merrifield St and Boase St\, Brunswick\, Victoria\, 3056\, Australia
CATEGORIES:Drop In,Social Event
ATTACH;FMTTYPE=image/png:https://scarletalliance.org.au/wp-content/uploads/Screenshot-2024-07-31-154143.png
ORGANIZER;CN="Vixen":MAILTO:info@vixen.org.au
END:VEVENT
END:VCALENDAR