BEGIN:VCALENDAR
VERSION:2.0
PRODID:-//Scarlet Alliance - ECPv6.15.12.2//NONSGML v1.0//EN
CALSCALE:GREGORIAN
METHOD:PUBLISH
X-WR-CALNAME:Scarlet Alliance
X-ORIGINAL-URL:https://scarletalliance.org.au
X-WR-CALDESC:Events for Scarlet Alliance
REFRESH-INTERVAL;VALUE=DURATION:PT1H
X-Robots-Tag:noindex
X-PUBLISHED-TTL:PT1H
BEGIN:VTIMEZONE
TZID:Australia/Sydney
BEGIN:STANDARD
TZOFFSETFROM:+1100
TZOFFSETTO:+1000
TZNAME:AEST
DTSTART:20230401T160000
END:STANDARD
BEGIN:DAYLIGHT
TZOFFSETFROM:+1000
TZOFFSETTO:+1100
TZNAME:AEDT
DTSTART:20230930T160000
END:DAYLIGHT
BEGIN:STANDARD
TZOFFSETFROM:+1100
TZOFFSETTO:+1000
TZNAME:AEST
DTSTART:20240406T160000
END:STANDARD
BEGIN:DAYLIGHT
TZOFFSETFROM:+1000
TZOFFSETTO:+1100
TZNAME:AEDT
DTSTART:20241005T160000
END:DAYLIGHT
BEGIN:STANDARD
TZOFFSETFROM:+1100
TZOFFSETTO:+1000
TZNAME:AEST
DTSTART:20250405T160000
END:STANDARD
BEGIN:DAYLIGHT
TZOFFSETFROM:+1000
TZOFFSETTO:+1100
TZNAME:AEDT
DTSTART:20251004T160000
END:DAYLIGHT
END:VTIMEZONE
BEGIN:VEVENT
DTSTART;VALUE=DATE:20240305
DTEND;VALUE=DATE:20240308
DTSTAMP:20260422T103320
CREATED:20240229T011306Z
LAST-MODIFIED:20240229T013211Z
UID:10000277-1709596800-1709855999@scarletalliance.org.au
SUMMARY:SWOP NSW & Vixen Tour
DESCRIPTION:South-East NSW Outreach \nVixen and SWOP NSW are coming to town! We are 100% by and for sex workers. \nTuesday 5th March: Wangaratta\, Wodonga\, Albury\nWednesday 6th March: Wagga Wagga\nThursday 7th March: Griffith \nContact: Kelly 0417 694 149 \nGrab a free gift pack full of condoms (all different flavours and sizes)\, lubes and massage oils! See you there xo
URL:https://scarletalliance.org.au/event/swop-nsw-vixen-tour/
LOCATION:New South Wales
CATEGORIES:Peer Education
ATTACH;FMTTYPE=image/png:https://scarletalliance.org.au/wp-content/uploads/SWOP-Vixen.png
ORGANIZER;CN="SWOP NSW":MAILTO:swopconnect@swop.org.au
END:VEVENT
BEGIN:VEVENT
DTSTART;TZID=Australia/Sydney:20240306T150000
DTEND;TZID=Australia/Sydney:20240306T170000
DTSTAMP:20260422T103320
CREATED:20240221T034946Z
LAST-MODIFIED:20240221T053207Z
UID:10000261-1709737200-1709744400@scarletalliance.org.au
SUMMARY:SWOP NSW OnlyFans Workshop
DESCRIPTION:SWOP NSW OnlyFans workshop is being offered both in person at our office\, and online. However you plan to attend\, don’t forget to register at https://bit.ly/49FN1uKvia.
URL:https://scarletalliance.org.au/event/swop-nsw-onlyfans-workshop/
LOCATION:New South Wales
CATEGORIES:Peer Education
ATTACH;FMTTYPE=image/png:https://scarletalliance.org.au/wp-content/uploads/SWOP-NSW-OnlyFans-Workshop-March-2024.png
ORGANIZER;CN="SWOP NSW":MAILTO:swopconnect@swop.org.au
END:VEVENT
BEGIN:VEVENT
DTSTART;TZID=Australia/Sydney:20240312T120000
DTEND;TZID=Australia/Sydney:20240312T130000
DTSTAMP:20260422T103320
CREATED:20240209T025112Z
LAST-MODIFIED:20240221T053233Z
UID:10000193-1710244800-1710248400@scarletalliance.org.au
SUMMARY:Respect Inc Monthly Workshop
DESCRIPTION:These are sex worker only workshops\, for more information or to RSVP contact Respect Inc. \nCheck the Workshops page to double check dates and times.
URL:https://scarletalliance.org.au/event/respect-inc-monthly-workshop/2024-03-12/
LOCATION:Queensland\, QLD\, Australia
CATEGORIES:Peer Education
ATTACH;FMTTYPE=image/jpeg:https://scarletalliance.org.au/wp-content/uploads/Respect-Inc-logo.jpg
ORGANIZER;CN="Respect QLD":MAILTO:info@respectqld.org.au
END:VEVENT
BEGIN:VEVENT
DTSTART;TZID=Australia/Sydney:20240313T170000
DTEND;TZID=Australia/Sydney:20240313T180000
DTSTAMP:20260422T103320
CREATED:20240221T021231Z
LAST-MODIFIED:20240221T053239Z
UID:10000214-1710349200-1710352800@scarletalliance.org.au
SUMMARY:Respect Inc Sistahs of the Pole
DESCRIPTION:Respect Inc is now holding a monthly\, stripper-only sharing circle! These groups will be facilitated with a peer educator. Meetings will be held on the third Wednesday of the month\, 4-5pm\, both online and in the Meanjin office. RSVP at info@respectqld.org.au.
URL:https://scarletalliance.org.au/event/respect-inc-sistahs-of-the-pole/2024-03-13/
LOCATION:Queensland\, QLD\, Australia
CATEGORIES:Peer Education
ATTACH;FMTTYPE=image/jpeg:https://scarletalliance.org.au/wp-content/uploads/Sistahs-of-the-pole-sharing-circle.jpg
ORGANIZER;CN="Respect QLD":MAILTO:info@respectqld.org.au
END:VEVENT
BEGIN:VEVENT
DTSTART;TZID=Australia/Sydney:20240318T150000
DTEND;TZID=Australia/Sydney:20240318T163000
DTSTAMP:20260422T103320
CREATED:20240229T004342Z
LAST-MODIFIED:20240229T004342Z
UID:10000276-1710774000-1710779400@scarletalliance.org.au
SUMMARY:SWOP NSW Consent Workshop
DESCRIPTION:Sex worker only. Consent workshop with Grace Newman. 18 March 2024. 3-4.30pm in person & online at the SWOP NSW office. Registration essential. Contact: tallula@swop.org.au. 0433530975
URL:https://scarletalliance.org.au/event/swop-nsw-consent-workshop/
LOCATION:New South Wales
CATEGORIES:Peer Education
ATTACH;FMTTYPE=image/jpeg:https://scarletalliance.org.au/wp-content/uploads/SWOP-NSW-consent-workshop.jpg
ORGANIZER;CN="SWOP NSW":MAILTO:swopconnect@swop.org.au
END:VEVENT
BEGIN:VEVENT
DTSTART;TZID=Australia/Sydney:20240321T140000
DTEND;TZID=Australia/Sydney:20240321T170000
DTSTAMP:20260422T103320
CREATED:20240221T023535Z
LAST-MODIFIED:20240221T053245Z
UID:10000236-1711029600-1711040400@scarletalliance.org.au
SUMMARY:Respect Inc Tea and Tarts
DESCRIPTION:Come in for supplies\, a chat\, cup of tea\, or join us monthly and bring a plate for Tea and Tarts (sex worker only\, current and retired). There is an entrance off Florence Street (main road)\, and a second entrance and parking around the back off McLeod Street.
URL:https://scarletalliance.org.au/event/respect-inc-tea-and-tarts/2024-03-21/
LOCATION:Respect Inc Gimuy (Cairns) Office\, 7/24 Florence Street\, Cairns\, QLD\, 4870\, Australia
CATEGORIES:Peer Education
ATTACH;FMTTYPE=image/jpeg:https://scarletalliance.org.au/wp-content/uploads/Tea-and-Tarts.jpg
ORGANIZER;CN="Respect QLD":MAILTO:info@respectqld.org.au
END:VEVENT
BEGIN:VEVENT
DTSTART;TZID=Australia/Sydney:20240321T180000
DTEND;TZID=Australia/Sydney:20240321T210000
DTSTAMP:20260422T103320
CREATED:20240320T234851Z
LAST-MODIFIED:20240618T024938Z
UID:10000292-1711044000-1711054800@scarletalliance.org.au
SUMMARY:Vixen Grill & Chill
DESCRIPTION:A free\, monthly event by and for street-based sex workers: food\, music\, work supplies + equipment. \nContact Nic (0414 437 610) or Rory (0414 689 424) for details.
URL:https://scarletalliance.org.au/event/grill-chill/2024-03-21/
LOCATION:Vixen\, Corner of Merrifield St and Boase St\, Brunswick\, Victoria\, 3056\, Australia
CATEGORIES:Outreach,Peer Education
ATTACH;FMTTYPE=image/png:https://scarletalliance.org.au/wp-content/uploads/umbrella.png
ORGANIZER;CN="Vixen":MAILTO:info@vixen.org.au
END:VEVENT
BEGIN:VEVENT
DTSTART;TZID=Australia/Sydney:20240329T150000
DTEND;TZID=Australia/Sydney:20240329T154500
DTSTAMP:20260422T103320
CREATED:20240321T000419Z
LAST-MODIFIED:20240321T000419Z
UID:10000306-1711724400-1711727100@scarletalliance.org.au
SUMMARY:SWOP NSW Letter Writing Workshop
DESCRIPTION:Learn how to write to you local MPs to advocate for anti-discrimination measures for sex workers in NSW. Online only. More dates to come! \nWorkshop includes:\n– Short explainer of the Equality Bill\n– Working on the SWOP template\n– Who to write to\n– Opportunity to ask our policy team questions \nRegister here: https://shorturl.at/bcjpG
URL:https://scarletalliance.org.au/event/swop-nsw-letter-writing-workshop/
LOCATION:Zoom
CATEGORIES:Peer Education
ATTACH;FMTTYPE=image/jpeg:https://scarletalliance.org.au/wp-content/uploads/432783721_793080159534250_3277120417927183673_n.jpg
ORGANIZER;CN="SWOP NSW":MAILTO:swopconnect@swop.org.au
END:VEVENT
END:VCALENDAR