BEGIN:VCALENDAR
VERSION:2.0
PRODID:-//Scarlet Alliance - ECPv6.15.12.2//NONSGML v1.0//EN
CALSCALE:GREGORIAN
METHOD:PUBLISH
X-WR-CALNAME:Scarlet Alliance
X-ORIGINAL-URL:https://scarletalliance.org.au
X-WR-CALDESC:Events for Scarlet Alliance
REFRESH-INTERVAL;VALUE=DURATION:PT1H
X-Robots-Tag:noindex
X-PUBLISHED-TTL:PT1H
BEGIN:VTIMEZONE
TZID:Australia/Sydney
BEGIN:STANDARD
TZOFFSETFROM:+1100
TZOFFSETTO:+1000
TZNAME:AEST
DTSTART:20230401T160000
END:STANDARD
BEGIN:DAYLIGHT
TZOFFSETFROM:+1000
TZOFFSETTO:+1100
TZNAME:AEDT
DTSTART:20230930T160000
END:DAYLIGHT
BEGIN:STANDARD
TZOFFSETFROM:+1100
TZOFFSETTO:+1000
TZNAME:AEST
DTSTART:20240406T160000
END:STANDARD
BEGIN:DAYLIGHT
TZOFFSETFROM:+1000
TZOFFSETTO:+1100
TZNAME:AEDT
DTSTART:20241005T160000
END:DAYLIGHT
BEGIN:STANDARD
TZOFFSETFROM:+1100
TZOFFSETTO:+1000
TZNAME:AEST
DTSTART:20250405T160000
END:STANDARD
BEGIN:DAYLIGHT
TZOFFSETFROM:+1000
TZOFFSETTO:+1100
TZNAME:AEDT
DTSTART:20251004T160000
END:DAYLIGHT
END:VTIMEZONE
BEGIN:VEVENT
DTSTART;TZID=Australia/Sydney:20240606T130000
DTEND;TZID=Australia/Sydney:20240606T150000
DTSTAMP:20260422T105820
CREATED:20240320T235731Z
LAST-MODIFIED:20240320T235731Z
UID:10000298-1717678800-1717686000@scarletalliance.org.au
SUMMARY:Vixen Workers Pack-Making
DESCRIPTION:Get involved! Come put together workers packs with us! Volunteers will be assembling sex workers packs for distribution to other sex workers! \nTea\, coffee and snacks will be provided. Strictly sex workers only.
URL:https://scarletalliance.org.au/event/vixen-workers-pack-making/2024-06-06/
LOCATION:Vixen\, Corner of Merrifield St and Boase St\, Brunswick\, Victoria\, 3056\, Australia
CATEGORIES:Outreach,Peer Education
ATTACH;FMTTYPE=image/png:https://scarletalliance.org.au/wp-content/uploads/condom-packing-socials-2-2-1.png
ORGANIZER;CN="Vixen":MAILTO:info@vixen.org.au
END:VEVENT
BEGIN:VEVENT
DTSTART;TZID=Australia/Sydney:20240602T160000
DTEND;TZID=Australia/Sydney:20240602T180000
DTSTAMP:20260422T105820
CREATED:20240523T040349Z
LAST-MODIFIED:20240523T040414Z
UID:10000439-1717344000-1717351200@scarletalliance.org.au
SUMMARY:SWOP NSW Hookers & Strippers Ball
DESCRIPTION:SWOP NSW are excited to announce that tickets are now available for the Hookers and Strippers Ball! \nThe theme is: HARLOTS THROUGHOUT HISTORY. \nSWOP NSW are holding a forum from 4 – 6pm\, which is a sex worker only event. SWOP NSW CEO Joanna and Policy Officers Soss and Ellie will discuss their Local Council Interaction Project\, which is an opportunity to improve relationships between sex workers\, sex service premises\, and the council. You don’t have to be an expert on the council to be involved\, or have worked in any specific area of sex work. \nFrom 6pm onwards\, the Hookers & Strippers Ball will be a night of performances\, dancing and a silent art auction! Costumes encouraged. Light refreshements and drinks provided. \nWhen registering\, please use contact details associated with either your SWOP NSW Membership or sex worker advertising to assist us with verifying your sex worker status. Please be aware that registering for a ticket does not guarantee you access: we may contact you for verification of you sex worker status if necessary. Sex workers can select a ticket for up to one other guest in their order. This event is for sex workers and their invited guests only. \nWe will provide AUSLAN interpreters\, a quiet space\, and ear plugs. Please let us know when you are registering for a ticket if you have any other accessibility requirements.
URL:https://scarletalliance.org.au/event/swop-nsw-hookers-strippers-ball/
LOCATION:NSW
ATTACH;FMTTYPE=image/png:https://scarletalliance.org.au/wp-content/uploads/Screenshot-2024-05-23-135710.png
ORGANIZER;CN="SWOP NSW":MAILTO:swopconnect@swop.org.au
END:VEVENT
BEGIN:VEVENT
DTSTART;VALUE=DATE:20240602
DTEND;VALUE=DATE:20240603
DTSTAMP:20260422T105820
CREATED:20240209T023041Z
LAST-MODIFIED:20240221T053311Z
UID:10000031-1717286400-1717372799@scarletalliance.org.au
SUMMARY:International Whores Day
DESCRIPTION:When we occupy the churches \nYou are scandalised \nReligious bigots! \nYou who threatened us with hell \nWe have come to eat at your table \nAt Saint-Nizier \n\nLyon sex worker grievances came to a head on 2 June 1975\, when around 100–150 sex workers took refuge in the Church of Saint-Nizier in Lyon and immediately hung from the steeple a large banner on which was written ‘Our children do not want their mothers to go to jail’. Aided by young curate\, activist and aspiring journalist Christian Delorme (audio recording of an interview\, 11 June\, 2012)\, the sex workers launched a media campaign explaining that they had occupied the church in desperation following months of failed negotiations in an attempt to prevent the threatened imprisonment of around 10 women facing multiple charges for ‘incitement of debauchery.\n\nFrom The 1975 French sex workers’ revolt: A narrative of influence
URL:https://scarletalliance.org.au/event/international-whores-day/2024-06-02/
LOCATION:NSW
CATEGORIES:Days of Significance
ATTACH;FMTTYPE=image/jpeg:https://scarletalliance.org.au/wp-content/uploads/iwd-IMAGE-2.jpg
END:VEVENT
BEGIN:VEVENT
DTSTART;VALUE=DATE:20240531
DTEND;VALUE=DATE:20240601
DTSTAMP:20260422T105820
CREATED:20240321T004408Z
LAST-MODIFIED:20240321T004408Z
UID:10000312-1717113600-1717199999@scarletalliance.org.au
SUMMARY:Vixen SexyBishion
DESCRIPTION:The Friday before June 2nd – International Whores Day – Vixen will be hosting a SexyBishion – an art & performance exhibition open to ALL creative sex worker submissions: painting\, drawing\, print\, sculpture\, performance\, and more! \nTo get involved\, contact Eva on 0449 948 486 or Rory at street@vixen.org.au.
URL:https://scarletalliance.org.au/event/vixen-sexybishion/
LOCATION:Victoria
ATTACH;FMTTYPE=image/png:https://scarletalliance.org.au/wp-content/uploads/Screenshot-2024-03-21-114040.png
ORGANIZER;CN="Vixen":MAILTO:info@vixen.org.au
END:VEVENT
BEGIN:VEVENT
DTSTART;VALUE=DATE:20240523
DTEND;VALUE=DATE:20240524
DTSTAMP:20260422T105820
CREATED:20240220T005448Z
LAST-MODIFIED:20240618T023926Z
UID:10000151-1716422400-1716508799@scarletalliance.org.au
SUMMARY:Scarlet Alliance Committee Meeting
DESCRIPTION:The monthly meeting of the Scarlet Alliance Committee.
URL:https://scarletalliance.org.au/event/scarlet-alliance-committee-meeting/2024-05-23/
LOCATION:NSW
ATTACH;FMTTYPE=image/jpeg:https://scarletalliance.org.au/wp-content/uploads/Red-umbrella-placeholder-image.jpg
ORGANIZER;CN="Scarlet Alliance":MAILTO:info@scarletalliance.org.au
END:VEVENT
BEGIN:VEVENT
DTSTART;TZID=Australia/Sydney:20240521T153000
DTEND;TZID=Australia/Sydney:20240521T170000
DTSTAMP:20260422T105820
CREATED:20240402T013321Z
LAST-MODIFIED:20240618T024622Z
UID:10000376-1716305400-1716310800@scarletalliance.org.au
SUMMARY:Vixen Peer Education Training Group
DESCRIPTION:Are you a current or former sex worker who wants to connect with other workers and learn skills in peer education? \nJoin us at Vixen for our monthly peer education training group!\nAnyone who has done any kind of sex work for any amount of time is welcome! No previous study experience required. \nEvery 3rd Tuesday afternoon 3.30 to 5.30 in a relaxed\, friendly community space for current & former sex workers only!\nFace-to-face or online learning\, and skill sharing our many unique talents with other workers\, including:\n-Sex worker diversity\n-Law reform advocacy\n-Activism\n-Outreach\n-Community development\n-Migrant sex work\n-Safer sex ed…& much more! \nWith the opportunity to gain a formal peer-education certification from Scarlet Alliance recognised by sex worker orgs!\nFor more information contact Vixen at 9070 9050 or email info@vixen.org.au.
URL:https://scarletalliance.org.au/event/vixen-peer-education-training-group/2024-05-21/
LOCATION:Vixen\, Corner of Merrifield St and Boase St\, Brunswick\, Victoria\, 3056\, Australia
CATEGORIES:Peer Education
ATTACH;FMTTYPE=image/png:https://scarletalliance.org.au/wp-content/uploads/Screenshot-2024-04-02-122829.png
ORGANIZER;CN="Vixen":MAILTO:info@vixen.org.au
END:VEVENT
BEGIN:VEVENT
DTSTART;TZID=Australia/Sydney:20240516T180000
DTEND;TZID=Australia/Sydney:20240516T180000
DTSTAMP:20260422T105820
CREATED:20240320T234308Z
LAST-MODIFIED:20240320T235100Z
UID:10000280-1715882400-1715882400@scarletalliance.org.au
SUMMARY:Vixen Gender Blender
DESCRIPTION:Trans\, gender diverse and gender questioning sex workers are invited to Vixen’s Gender Blender – a space for discussion\, skill-sharing\, peer support\, and community connection\, by and for trans and gender diverse sex workers in Victoria. Held via Zoom on the 3rd Thursday of every month! \nCall 03 9070 9050 or email info@vixen.org.au for more information!
URL:https://scarletalliance.org.au/event/gender-blender/2024-05-16/
LOCATION:Zoom
CATEGORIES:Peer Education
ATTACH;FMTTYPE=image/png:https://scarletalliance.org.au/wp-content/uploads/gender-blender-socials-1.png
ORGANIZER;CN="Vixen":MAILTO:info@vixen.org.au
END:VEVENT
BEGIN:VEVENT
DTSTART;TZID=Australia/Sydney:20240516T130000
DTEND;TZID=Australia/Sydney:20240516T160000
DTSTAMP:20260422T105820
CREATED:20240221T023535Z
LAST-MODIFIED:20240221T053245Z
UID:10000238-1715864400-1715875200@scarletalliance.org.au
SUMMARY:Respect Inc Tea and Tarts
DESCRIPTION:Come in for supplies\, a chat\, cup of tea\, or join us monthly and bring a plate for Tea and Tarts (sex worker only\, current and retired). There is an entrance off Florence Street (main road)\, and a second entrance and parking around the back off McLeod Street.
URL:https://scarletalliance.org.au/event/respect-inc-tea-and-tarts/2024-05-16/
LOCATION:Respect Inc Gimuy (Cairns) Office\, 7/24 Florence Street\, Cairns\, QLD\, 4870\, Australia
CATEGORIES:Peer Education
ATTACH;FMTTYPE=image/jpeg:https://scarletalliance.org.au/wp-content/uploads/Tea-and-Tarts.jpg
ORGANIZER;CN="Respect QLD":MAILTO:info@respectqld.org.au
END:VEVENT
BEGIN:VEVENT
DTSTART;TZID=Australia/Sydney:20240516T080000
DTEND;TZID=Australia/Sydney:20240516T170000
DTSTAMP:20260422T105820
CREATED:20240320T234851Z
LAST-MODIFIED:20240618T024938Z
UID:10000294-1715846400-1715878800@scarletalliance.org.au
SUMMARY:Vixen Grill & Chill
DESCRIPTION:A free\, monthly event by and for street-based sex workers: food\, music\, work supplies + equipment. \nContact Nic (0414 437 610) or Rory (0414 689 424) for details.
URL:https://scarletalliance.org.au/event/grill-chill/2024-05-16/
LOCATION:Vixen\, Corner of Merrifield St and Boase St\, Brunswick\, Victoria\, 3056\, Australia
CATEGORIES:Outreach,Peer Education
ATTACH;FMTTYPE=image/png:https://scarletalliance.org.au/wp-content/uploads/umbrella.png
ORGANIZER;CN="Vixen":MAILTO:info@vixen.org.au
END:VEVENT
BEGIN:VEVENT
DTSTART;TZID=Australia/Sydney:20240514T140000
DTEND;TZID=Australia/Sydney:20240514T160000
DTSTAMP:20260422T105820
CREATED:20240402T012026Z
LAST-MODIFIED:20250723T235640Z
UID:10000315-1715695200-1715702400@scarletalliance.org.au
SUMMARY:SWOP NSW Indie Worker Drop Ins
DESCRIPTION:Come for snacks\, chats and workers packs. Held on the second Tuesday of the month from 2-4pm
URL:https://scarletalliance.org.au/event/swop-nsw-indie-worker-drop-ins/2024-05-14/
LOCATION:SWOP NSW\, 7/110 Bontay Rd\, Sydney\, NSW\, 2015\, Australia
CATEGORIES:Outreach
ATTACH;FMTTYPE=image/png:https://scarletalliance.org.au/wp-content/uploads/Screenshot-2024-09-25-153849.png
ORGANIZER;CN="SWOP NSW":MAILTO:swopconnect@swop.org.au
END:VEVENT
BEGIN:VEVENT
DTSTART;TZID=Australia/Sydney:20240514T110000
DTEND;TZID=Australia/Sydney:20240514T120000
DTSTAMP:20260422T105820
CREATED:20240209T025112Z
LAST-MODIFIED:20240221T053233Z
UID:10000195-1715684400-1715688000@scarletalliance.org.au
SUMMARY:Respect Inc Monthly Workshop
DESCRIPTION:These are sex worker only workshops\, for more information or to RSVP contact Respect Inc. \nCheck the Workshops page to double check dates and times.
URL:https://scarletalliance.org.au/event/respect-inc-monthly-workshop/2024-05-14/
LOCATION:Queensland\, QLD\, Australia
CATEGORIES:Peer Education
ATTACH;FMTTYPE=image/jpeg:https://scarletalliance.org.au/wp-content/uploads/Respect-Inc-logo.jpg
ORGANIZER;CN="Respect QLD":MAILTO:info@respectqld.org.au
END:VEVENT
BEGIN:VEVENT
DTSTART;TZID=Australia/Sydney:20240508T180000
DTEND;TZID=Australia/Sydney:20240508T183000
DTSTAMP:20260422T105820
CREATED:20240321T003640Z
LAST-MODIFIED:20240321T003640Z
UID:10000310-1715191200-1715193000@scarletalliance.org.au
SUMMARY:
DESCRIPTION:SWOP NSW are hosting a live workshop for sex workers and allies! Here we’ll have a short explainer of required anti-discrimination protections for NSW sex workers\, a workshop on how to write a letter to your MPs\, and an opportunity to ask questions. The workshop will run from our Instagram page @SWOPNSW from 6 – 6:30pm on Wednesday the 8th of May. No registration needed!
URL:https://scarletalliance.org.au/event/7912/
LOCATION:Online
CATEGORIES:Peer Education
ATTACH;FMTTYPE=image/png:https://scarletalliance.org.au/wp-content/uploads/Screenshot-2024-03-21-113323.png
ORGANIZER;CN="SWOP NSW":MAILTO:swopconnect@swop.org.au
END:VEVENT
BEGIN:VEVENT
DTSTART;TZID=Australia/Sydney:20240508T160000
DTEND;TZID=Australia/Sydney:20240508T170000
DTSTAMP:20260422T105821
CREATED:20240221T021231Z
LAST-MODIFIED:20240221T053239Z
UID:10000216-1715184000-1715187600@scarletalliance.org.au
SUMMARY:Respect Inc Sistahs of the Pole
DESCRIPTION:Respect Inc is now holding a monthly\, stripper-only sharing circle! These groups will be facilitated with a peer educator. Meetings will be held on the third Wednesday of the month\, 4-5pm\, both online and in the Meanjin office. RSVP at info@respectqld.org.au.
URL:https://scarletalliance.org.au/event/respect-inc-sistahs-of-the-pole/2024-05-08/
LOCATION:Queensland\, QLD\, Australia
CATEGORIES:Peer Education
ATTACH;FMTTYPE=image/jpeg:https://scarletalliance.org.au/wp-content/uploads/Sistahs-of-the-pole-sharing-circle.jpg
ORGANIZER;CN="Respect QLD":MAILTO:info@respectqld.org.au
END:VEVENT
BEGIN:VEVENT
DTSTART;TZID=Australia/Sydney:20240502T160000
DTEND;TZID=Australia/Sydney:20240502T180000
DTSTAMP:20260422T105821
CREATED:20240209T024353Z
LAST-MODIFIED:20240221T053218Z
UID:10000045-1714665600-1714672800@scarletalliance.org.au
SUMMARY:National Cabinet of Whores
DESCRIPTION:Scarlet Alliance hosts a monthly “National Cabinet” meeting for the leadership of sex worker organisations in so-called Australia. \nThe NCW first started meeting in 2020 in response to COVID19 to coordinate a national response and has met regularly since.
URL:https://scarletalliance.org.au/event/national-cabinet-of-whores/2024-05-02/
LOCATION:NSW
ATTACH;FMTTYPE=image/jpeg:https://scarletalliance.org.au/wp-content/uploads/NCW-pic.jpg
ORGANIZER;CN="Scarlet Alliance":MAILTO:info@scarletalliance.org.au
END:VEVENT
BEGIN:VEVENT
DTSTART;TZID=Australia/Sydney:20240502T130000
DTEND;TZID=Australia/Sydney:20240502T150000
DTSTAMP:20260422T105821
CREATED:20240320T235731Z
LAST-MODIFIED:20240320T235731Z
UID:10000297-1714654800-1714662000@scarletalliance.org.au
SUMMARY:Vixen Workers Pack-Making
DESCRIPTION:Get involved! Come put together workers packs with us! Volunteers will be assembling sex workers packs for distribution to other sex workers! \nTea\, coffee and snacks will be provided. Strictly sex workers only.
URL:https://scarletalliance.org.au/event/vixen-workers-pack-making/2024-05-02/
LOCATION:Vixen\, Corner of Merrifield St and Boase St\, Brunswick\, Victoria\, 3056\, Australia
CATEGORIES:Outreach,Peer Education
ATTACH;FMTTYPE=image/png:https://scarletalliance.org.au/wp-content/uploads/condom-packing-socials-2-2-1.png
ORGANIZER;CN="Vixen":MAILTO:info@vixen.org.au
END:VEVENT
BEGIN:VEVENT
DTSTART;VALUE=DATE:20240501
DTEND;VALUE=DATE:20240502
DTSTAMP:20260422T105821
CREATED:20240221T060108Z
LAST-MODIFIED:20240221T060108Z
UID:10000270-1714521600-1714607999@scarletalliance.org.au
SUMMARY:May Day
DESCRIPTION:May Day is an annual celebration day for rallies and events held by Union peak bodies in most capital cities and regional centers each year. Keep an eye out for activities near you!
URL:https://scarletalliance.org.au/event/may-day/2024-05-01/
LOCATION:NSW
CATEGORIES:Days of Significance
ATTACH;FMTTYPE=image/jpeg:https://scarletalliance.org.au/wp-content/uploads/SWOP-NT-May-Day-2006.jpeg
END:VEVENT
BEGIN:VEVENT
DTSTART;VALUE=DATE:20240425
DTEND;VALUE=DATE:20240426
DTSTAMP:20260422T105821
CREATED:20240220T005448Z
LAST-MODIFIED:20240618T023926Z
UID:10000150-1714003200-1714089599@scarletalliance.org.au
SUMMARY:Scarlet Alliance Committee Meeting
DESCRIPTION:The monthly meeting of the Scarlet Alliance Committee.
URL:https://scarletalliance.org.au/event/scarlet-alliance-committee-meeting/2024-04-25/
LOCATION:NSW
ATTACH;FMTTYPE=image/jpeg:https://scarletalliance.org.au/wp-content/uploads/Red-umbrella-placeholder-image.jpg
ORGANIZER;CN="Scarlet Alliance":MAILTO:info@scarletalliance.org.au
END:VEVENT
BEGIN:VEVENT
DTSTART;TZID=Australia/Sydney:20240418T180000
DTEND;TZID=Australia/Sydney:20240418T180000
DTSTAMP:20260422T105821
CREATED:20240320T234308Z
LAST-MODIFIED:20240320T235100Z
UID:10000279-1713463200-1713463200@scarletalliance.org.au
SUMMARY:Vixen Gender Blender
DESCRIPTION:Trans\, gender diverse and gender questioning sex workers are invited to Vixen’s Gender Blender – a space for discussion\, skill-sharing\, peer support\, and community connection\, by and for trans and gender diverse sex workers in Victoria. Held via Zoom on the 3rd Thursday of every month! \nCall 03 9070 9050 or email info@vixen.org.au for more information!
URL:https://scarletalliance.org.au/event/gender-blender/2024-04-18/
LOCATION:Zoom
CATEGORIES:Peer Education
ATTACH;FMTTYPE=image/png:https://scarletalliance.org.au/wp-content/uploads/gender-blender-socials-1.png
ORGANIZER;CN="Vixen":MAILTO:info@vixen.org.au
END:VEVENT
BEGIN:VEVENT
DTSTART;TZID=Australia/Sydney:20240418T173000
DTEND;TZID=Australia/Sydney:20240418T190000
DTSTAMP:20260422T105821
CREATED:20240321T003015Z
LAST-MODIFIED:20240321T003157Z
UID:10000309-1713461400-1713466800@scarletalliance.org.au
SUMMARY:SIN Hooker Forensics
DESCRIPTION:Hooker Forensics – A Sex Worker Skill Share 🔍 \nAs sex workers\, we know we are the safer sex experts – so what better way to learn and refresh our knowledge by sharing with our peers! At this skill-share we will be discussing the signs\, symptoms\, transmission\, and treatment options of STI’s and BBV’s – using Scarlet Alliance’s Redbook online as a tool. \nWe will also be sharing tips and tricks on how to perform a sexual health check at work – we all have our own ways of doing it\, and we would love to hear yours! This is a great opportunity to refresh your knowledge of sexual sex workers space. \n☂️ This event will be hosted both in-person at SIN (220 South Road\, Mile End) and online via Zoom – a Zoom link will be sent via email one hour before the start of the event. Please RSVP at tinyurl.com/hfsin24. This event is strictly for sex workers only. ☂️
URL:https://scarletalliance.org.au/event/sin-hooker-forensics/
LOCATION:SIN\, 220 South Road\, Mile End\, Adelaids\, South Australia\, 5032\, Australia
CATEGORIES:Peer Education
ATTACH;FMTTYPE=image/png:https://scarletalliance.org.au/wp-content/uploads/Screenshot-2024-03-21-112536.png
ORGANIZER;CN="SIN South Australia":MAILTO:spo@sin.org.au
END:VEVENT
BEGIN:VEVENT
DTSTART;TZID=Australia/Sydney:20240418T130000
DTEND;TZID=Australia/Sydney:20240418T160000
DTSTAMP:20260422T105821
CREATED:20240221T023535Z
LAST-MODIFIED:20240221T053245Z
UID:10000237-1713445200-1713456000@scarletalliance.org.au
SUMMARY:Respect Inc Tea and Tarts
DESCRIPTION:Come in for supplies\, a chat\, cup of tea\, or join us monthly and bring a plate for Tea and Tarts (sex worker only\, current and retired). There is an entrance off Florence Street (main road)\, and a second entrance and parking around the back off McLeod Street.
URL:https://scarletalliance.org.au/event/respect-inc-tea-and-tarts/2024-04-18/
LOCATION:Respect Inc Gimuy (Cairns) Office\, 7/24 Florence Street\, Cairns\, QLD\, 4870\, Australia
CATEGORIES:Peer Education
ATTACH;FMTTYPE=image/jpeg:https://scarletalliance.org.au/wp-content/uploads/Tea-and-Tarts.jpg
ORGANIZER;CN="Respect QLD":MAILTO:info@respectqld.org.au
END:VEVENT
BEGIN:VEVENT
DTSTART;TZID=Australia/Sydney:20240418T080000
DTEND;TZID=Australia/Sydney:20240418T170000
DTSTAMP:20260422T105821
CREATED:20240320T234851Z
LAST-MODIFIED:20240618T024938Z
UID:10000293-1713427200-1713459600@scarletalliance.org.au
SUMMARY:Vixen Grill & Chill
DESCRIPTION:A free\, monthly event by and for street-based sex workers: food\, music\, work supplies + equipment. \nContact Nic (0414 437 610) or Rory (0414 689 424) for details.
URL:https://scarletalliance.org.au/event/grill-chill/2024-04-18/
LOCATION:Vixen\, Corner of Merrifield St and Boase St\, Brunswick\, Victoria\, 3056\, Australia
CATEGORIES:Outreach,Peer Education
ATTACH;FMTTYPE=image/png:https://scarletalliance.org.au/wp-content/uploads/umbrella.png
ORGANIZER;CN="Vixen":MAILTO:info@vixen.org.au
END:VEVENT
BEGIN:VEVENT
DTSTART;TZID=Australia/Sydney:20240416T153000
DTEND;TZID=Australia/Sydney:20240416T170000
DTSTAMP:20260422T105821
CREATED:20240402T013321Z
LAST-MODIFIED:20240618T024622Z
UID:10000375-1713281400-1713286800@scarletalliance.org.au
SUMMARY:Vixen Peer Education Training Group
DESCRIPTION:Are you a current or former sex worker who wants to connect with other workers and learn skills in peer education? \nJoin us at Vixen for our monthly peer education training group!\nAnyone who has done any kind of sex work for any amount of time is welcome! No previous study experience required. \nEvery 3rd Tuesday afternoon 3.30 to 5.30 in a relaxed\, friendly community space for current & former sex workers only!\nFace-to-face or online learning\, and skill sharing our many unique talents with other workers\, including:\n-Sex worker diversity\n-Law reform advocacy\n-Activism\n-Outreach\n-Community development\n-Migrant sex work\n-Safer sex ed…& much more! \nWith the opportunity to gain a formal peer-education certification from Scarlet Alliance recognised by sex worker orgs!\nFor more information contact Vixen at 9070 9050 or email info@vixen.org.au.
URL:https://scarletalliance.org.au/event/vixen-peer-education-training-group/2024-04-16/
LOCATION:Vixen\, Corner of Merrifield St and Boase St\, Brunswick\, Victoria\, 3056\, Australia
CATEGORIES:Peer Education
ATTACH;FMTTYPE=image/png:https://scarletalliance.org.au/wp-content/uploads/Screenshot-2024-04-02-122829.png
ORGANIZER;CN="Vixen":MAILTO:info@vixen.org.au
END:VEVENT
BEGIN:VEVENT
DTSTART;TZID=Australia/Sydney:20240411T180000
DTEND;TZID=Australia/Sydney:20240411T210000
DTSTAMP:20260422T105821
CREATED:20240403T225412Z
LAST-MODIFIED:20240403T225412Z
UID:10000437-1712858400-1712869200@scarletalliance.org.au
SUMMARY:SWOP NSW Anti Discrimination Forum & Social Event
DESCRIPTION:SWOP NSW are very excited to invite the sex working community to our Anti-Discrimination Forum and Social Event! This is a s3x w0rker only event. Join us at The Bearded Tit at 6pm on the 11th of April for food\, drinks\, goodies\, games\, workshops and explainers. Together we can change our future! \nRegistrations including dietaries/accessibility/language for translation are available here: https://docs.google.com/forms/d/1MnJW8FvkMobLn9LZmRsVVkZinhSlHp-avMiMvSEJg6k/viewform?edit_requested=true
URL:https://scarletalliance.org.au/event/swop-nsw-anti-discrimination-forum-social-event/
LOCATION:Bearded Tit\, 183 Regent St\, Redfern\, Sydney\, NSW\, 2016\, Australia
CATEGORIES:Peer Education
ATTACH;FMTTYPE=image/png:https://scarletalliance.org.au/wp-content/uploads/Screenshot-2024-04-04-094948.png
ORGANIZER;CN="SWOP NSW":MAILTO:swopconnect@swop.org.au
END:VEVENT
BEGIN:VEVENT
DTSTART;TZID=Australia/Sydney:20240411T140000
DTEND;TZID=Australia/Sydney:20240411T170000
DTSTAMP:20260422T105821
CREATED:20240321T004005Z
LAST-MODIFIED:20240321T004005Z
UID:10000311-1712844000-1712854800@scarletalliance.org.au
SUMMARY:Vixen Whoredrobe Swap
DESCRIPTION:Do you have work clothing you don’t wear anymore? Want to pick up a new free work ‘fit? Just wanna hang out with fellow workers? Our Whoredrobe Swap Day will be on again on the 11th of April\, from 2pm til 5pm! Corner of Merrifield and Boase Street\, Brunswick (look for the red door)! Strictly sex worker only.
URL:https://scarletalliance.org.au/event/vixen-whoredrobe-swap/
LOCATION:Vixen\, Corner of Merrifield St and Boase St\, Brunswick\, Victoria\, 3056\, Australia
ATTACH;FMTTYPE=image/png:https://scarletalliance.org.au/wp-content/uploads/Screenshot-2024-03-21-113733.png
ORGANIZER;CN="Vixen":MAILTO:info@vixen.org.au
END:VEVENT
BEGIN:VEVENT
DTSTART;TZID=Australia/Sydney:20240410T160000
DTEND;TZID=Australia/Sydney:20240410T170000
DTSTAMP:20260422T105821
CREATED:20240221T021231Z
LAST-MODIFIED:20240221T053239Z
UID:10000215-1712764800-1712768400@scarletalliance.org.au
SUMMARY:Respect Inc Sistahs of the Pole
DESCRIPTION:Respect Inc is now holding a monthly\, stripper-only sharing circle! These groups will be facilitated with a peer educator. Meetings will be held on the third Wednesday of the month\, 4-5pm\, both online and in the Meanjin office. RSVP at info@respectqld.org.au.
URL:https://scarletalliance.org.au/event/respect-inc-sistahs-of-the-pole/2024-04-10/
LOCATION:Queensland\, QLD\, Australia
CATEGORIES:Peer Education
ATTACH;FMTTYPE=image/jpeg:https://scarletalliance.org.au/wp-content/uploads/Sistahs-of-the-pole-sharing-circle.jpg
ORGANIZER;CN="Respect QLD":MAILTO:info@respectqld.org.au
END:VEVENT
BEGIN:VEVENT
DTSTART;TZID=Australia/Sydney:20240409T140000
DTEND;TZID=Australia/Sydney:20240409T180000
DTSTAMP:20260422T105821
CREATED:20240403T225846Z
LAST-MODIFIED:20240403T225921Z
UID:10000438-1712671200-1712685600@scarletalliance.org.au
SUMMARY:SWOP NSW Central Coast Outreach
DESCRIPTION:Our outreach team will be on the Central Coast on April 9th! Please get in touch with Rosie if you’d like a visit: 0426 968 892 or rosie@swop.org.au. \nPlease get in touch by April 4th.
URL:https://scarletalliance.org.au/event/7985/
LOCATION:Central Coast\, NSW\, Australia
CATEGORIES:Outreach
ATTACH;FMTTYPE=image/png:https://scarletalliance.org.au/wp-content/uploads/Screenshot-2024-04-04-095449.png
ORGANIZER;CN="SWOP NSW":MAILTO:swopconnect@swop.org.au
END:VEVENT
BEGIN:VEVENT
DTSTART;TZID=Australia/Sydney:20240409T140000
DTEND;TZID=Australia/Sydney:20240409T160000
DTSTAMP:20260422T105821
CREATED:20240402T012026Z
LAST-MODIFIED:20250723T235640Z
UID:10000314-1712671200-1712678400@scarletalliance.org.au
SUMMARY:SWOP NSW Indie Worker Drop Ins
DESCRIPTION:Come for snacks\, chats and workers packs. Held on the second Tuesday of the month from 2-4pm
URL:https://scarletalliance.org.au/event/swop-nsw-indie-worker-drop-ins/2024-04-09/
LOCATION:SWOP NSW\, 7/110 Bontay Rd\, Sydney\, NSW\, 2015\, Australia
CATEGORIES:Outreach
ATTACH;FMTTYPE=image/png:https://scarletalliance.org.au/wp-content/uploads/Screenshot-2024-09-25-153849.png
ORGANIZER;CN="SWOP NSW":MAILTO:swopconnect@swop.org.au
END:VEVENT
BEGIN:VEVENT
DTSTART;TZID=Australia/Sydney:20240409T110000
DTEND;TZID=Australia/Sydney:20240409T120000
DTSTAMP:20260422T105821
CREATED:20240209T025112Z
LAST-MODIFIED:20240221T053233Z
UID:10000194-1712660400-1712664000@scarletalliance.org.au
SUMMARY:Respect Inc Monthly Workshop
DESCRIPTION:These are sex worker only workshops\, for more information or to RSVP contact Respect Inc. \nCheck the Workshops page to double check dates and times.
URL:https://scarletalliance.org.au/event/respect-inc-monthly-workshop/2024-04-09/
LOCATION:Queensland\, QLD\, Australia
CATEGORIES:Peer Education
ATTACH;FMTTYPE=image/jpeg:https://scarletalliance.org.au/wp-content/uploads/Respect-Inc-logo.jpg
ORGANIZER;CN="Respect QLD":MAILTO:info@respectqld.org.au
END:VEVENT
BEGIN:VEVENT
DTSTART;VALUE=DATE:20240408
DTEND;VALUE=DATE:20240411
DTSTAMP:20260422T105821
CREATED:20240402T012607Z
LAST-MODIFIED:20240402T012607Z
UID:10000374-1712534400-1712793599@scarletalliance.org.au
SUMMARY:Respect QLD Regional Outreach
DESCRIPTION:Respect QLD will be conducting regional outreach in Townsville from 8th to 10th April.\nContact Ella: 0476 214 051
URL:https://scarletalliance.org.au/event/respect-qld-regional-outreach/
LOCATION:Townsville\, Townsville\, QLD\, 4810
CATEGORIES:Outreach
ATTACH;FMTTYPE=image/png:https://scarletalliance.org.au/wp-content/uploads/Screenshot-2024-04-02-120741.png
ORGANIZER;CN="Respect QLD":MAILTO:info@respectqld.org.au
END:VEVENT
BEGIN:VEVENT
DTSTART;TZID=Australia/Sydney:20240404T160000
DTEND;TZID=Australia/Sydney:20240404T180000
DTSTAMP:20260422T105821
CREATED:20240209T024353Z
LAST-MODIFIED:20240221T053218Z
UID:10000044-1712246400-1712253600@scarletalliance.org.au
SUMMARY:National Cabinet of Whores
DESCRIPTION:Scarlet Alliance hosts a monthly “National Cabinet” meeting for the leadership of sex worker organisations in so-called Australia. \nThe NCW first started meeting in 2020 in response to COVID19 to coordinate a national response and has met regularly since.
URL:https://scarletalliance.org.au/event/national-cabinet-of-whores/2024-04-04/
LOCATION:NSW
ATTACH;FMTTYPE=image/jpeg:https://scarletalliance.org.au/wp-content/uploads/NCW-pic.jpg
ORGANIZER;CN="Scarlet Alliance":MAILTO:info@scarletalliance.org.au
END:VEVENT
END:VCALENDAR