BEGIN:VCALENDAR
VERSION:2.0
PRODID:-//Scarlet Alliance - ECPv6.15.12.2//NONSGML v1.0//EN
CALSCALE:GREGORIAN
METHOD:PUBLISH
X-ORIGINAL-URL:https://scarletalliance.org.au
X-WR-CALDESC:Events for Scarlet Alliance
REFRESH-INTERVAL;VALUE=DURATION:PT1H
X-Robots-Tag:noindex
X-PUBLISHED-TTL:PT1H
BEGIN:VTIMEZONE
TZID:Australia/Sydney
BEGIN:STANDARD
TZOFFSETFROM:+1100
TZOFFSETTO:+1000
TZNAME:AEST
DTSTART:20230401T160000
END:STANDARD
BEGIN:DAYLIGHT
TZOFFSETFROM:+1000
TZOFFSETTO:+1100
TZNAME:AEDT
DTSTART:20230930T160000
END:DAYLIGHT
BEGIN:STANDARD
TZOFFSETFROM:+1100
TZOFFSETTO:+1000
TZNAME:AEST
DTSTART:20240406T160000
END:STANDARD
BEGIN:DAYLIGHT
TZOFFSETFROM:+1000
TZOFFSETTO:+1100
TZNAME:AEDT
DTSTART:20241005T160000
END:DAYLIGHT
BEGIN:STANDARD
TZOFFSETFROM:+1100
TZOFFSETTO:+1000
TZNAME:AEST
DTSTART:20250405T160000
END:STANDARD
BEGIN:DAYLIGHT
TZOFFSETFROM:+1000
TZOFFSETTO:+1100
TZNAME:AEDT
DTSTART:20251004T160000
END:DAYLIGHT
END:VTIMEZONE
BEGIN:VEVENT
DTSTART;TZID=Australia/Sydney:20240215T140000
DTEND;TZID=Australia/Sydney:20240215T170000
DTSTAMP:20260422T032110
CREATED:20240221T023535Z
LAST-MODIFIED:20240221T053245Z
UID:10000235-1708005600-1708016400@scarletalliance.org.au
SUMMARY:Respect Inc Tea and Tarts
DESCRIPTION:Come in for supplies\, a chat\, cup of tea\, or join us monthly and bring a plate for Tea and Tarts (sex worker only\, current and retired). There is an entrance off Florence Street (main road)\, and a second entrance and parking around the back off McLeod Street.
URL:https://scarletalliance.org.au/event/respect-inc-tea-and-tarts/2024-02-15/
LOCATION:Respect Inc Gimuy (Cairns) Office\, 7/24 Florence Street\, Cairns\, QLD\, 4870\, Australia
CATEGORIES:Peer Education
ATTACH;FMTTYPE=image/jpeg:https://scarletalliance.org.au/wp-content/uploads/Tea-and-Tarts.jpg
ORGANIZER;CN="Respect QLD":MAILTO:info@respectqld.org.au
END:VEVENT
BEGIN:VEVENT
DTSTART;VALUE=DATE:20240222
DTEND;VALUE=DATE:20240223
DTSTAMP:20260422T032110
CREATED:20240220T005448Z
LAST-MODIFIED:20240618T023926Z
UID:10000148-1708560000-1708646399@scarletalliance.org.au
SUMMARY:Scarlet Alliance Committee Meeting
DESCRIPTION:The monthly meeting of the Scarlet Alliance Committee.
URL:https://scarletalliance.org.au/event/scarlet-alliance-committee-meeting/2024-02-22/
ATTACH;FMTTYPE=image/jpeg:https://scarletalliance.org.au/wp-content/uploads/Red-umbrella-placeholder-image.jpg
ORGANIZER;CN="Scarlet Alliance":MAILTO:info@scarletalliance.org.au
END:VEVENT
BEGIN:VEVENT
DTSTART;TZID=Australia/Sydney:20240226T140000
DTEND;TZID=Australia/Sydney:20240226T153000
DTSTAMP:20260422T032110
CREATED:20240221T035533Z
LAST-MODIFIED:20240221T053100Z
UID:10000262-1708956000-1708961400@scarletalliance.org.au
SUMMARY:SWOP NSW x KRC Naloxone/Overdose Management Workshop
DESCRIPTION:KRC and SWOP NSW present a FREE sex worker only workshop for Overdose Management.\n\n\nWe will discuss\nstrategies\nnaloxone\nand have a Q&A with KRC’s OD trainer.\n\n\nPast and current workers can register via the link in our bio to attend online via zoom or in person at KRC’s Kellet St Location. In person attendees will receive free nyxoid spray at the end of the workshop.\n\n\nWhen: 26th February at 2pm. Limited in person capacity so RESISTRATIONS ESSENTIAL. Arrive early as latecomers may not be admitted.\n\n\nRegister at https://bit.ly/49FN1uK
URL:https://scarletalliance.org.au/event/swop-nsw-x-krc-naloxone-overdose-management-workshop/
LOCATION:KRC\, 12 Kellett St\, Potts Point\, NSW
CATEGORIES:Peer Education
ATTACH;FMTTYPE=image/jpeg:https://scarletalliance.org.au/wp-content/uploads/SWOP-NSW-overdose-management.jpg
ORGANIZER;CN="SWOP NSW":MAILTO:swopconnect@swop.org.au
END:VEVENT
END:VCALENDAR