BEGIN:VCALENDAR
VERSION:2.0
PRODID:-//Scarlet Alliance - ECPv6.15.12.2//NONSGML v1.0//EN
CALSCALE:GREGORIAN
METHOD:PUBLISH
X-WR-CALNAME:Scarlet Alliance
X-ORIGINAL-URL:https://scarletalliance.org.au
X-WR-CALDESC:Events for Scarlet Alliance
REFRESH-INTERVAL;VALUE=DURATION:PT1H
X-Robots-Tag:noindex
X-PUBLISHED-TTL:PT1H
BEGIN:VTIMEZONE
TZID:Australia/Sydney
BEGIN:STANDARD
TZOFFSETFROM:+1100
TZOFFSETTO:+1000
TZNAME:AEST
DTSTART:20250405T160000
END:STANDARD
BEGIN:DAYLIGHT
TZOFFSETFROM:+1000
TZOFFSETTO:+1100
TZNAME:AEDT
DTSTART:20251004T160000
END:DAYLIGHT
BEGIN:STANDARD
TZOFFSETFROM:+1100
TZOFFSETTO:+1000
TZNAME:AEST
DTSTART:20260404T160000
END:STANDARD
BEGIN:DAYLIGHT
TZOFFSETFROM:+1000
TZOFFSETTO:+1100
TZNAME:AEDT
DTSTART:20261003T160000
END:DAYLIGHT
BEGIN:STANDARD
TZOFFSETFROM:+1100
TZOFFSETTO:+1000
TZNAME:AEST
DTSTART:20270403T160000
END:STANDARD
BEGIN:DAYLIGHT
TZOFFSETFROM:+1000
TZOFFSETTO:+1100
TZNAME:AEDT
DTSTART:20271002T160000
END:DAYLIGHT
END:VTIMEZONE
BEGIN:VEVENT
DTSTART;VALUE=DATE:20260303
DTEND;VALUE=DATE:20260304
DTSTAMP:20260422T125811
CREATED:20240209T021016Z
LAST-MODIFIED:20240221T011513Z
UID:10000119-1772496000-1772582399@scarletalliance.org.au
SUMMARY:International Sex Worker Rights Day
DESCRIPTION:This day’s history goes back to 2001\, when over 25\,000 sex workers gathered in India for a festival despite efforts from prohibitionist groups who tried to prevent it taking place by pressuring the government to revoke their permit. The event was organised by Durbar Mahila Samanwaya Committee\, a Calcutta based group that has over 50\,000 sex worker members\, and members of their communities. Sex worker groups across the world have subsequently celebrated 3 March as an annual\, international event\, as International Sex Workers’ Rights Day.
URL:https://scarletalliance.org.au/event/international-sex-worker-rights-day/2026-03-03/
CATEGORIES:Days of Significance
ATTACH;FMTTYPE=image/jpeg:https://scarletalliance.org.au/wp-content/uploads/Fly-In-Power.jpg
END:VEVENT
BEGIN:VEVENT
DTSTART;TZID=Australia/Sydney:20260305T160000
DTEND;TZID=Australia/Sydney:20260305T180000
DTSTAMP:20260422T125811
CREATED:20240209T024353Z
LAST-MODIFIED:20240221T053218Z
UID:10000066-1772726400-1772733600@scarletalliance.org.au
SUMMARY:National Cabinet of Whores
DESCRIPTION:Scarlet Alliance hosts a monthly “National Cabinet” meeting for the leadership of sex worker organisations in so-called Australia. \nThe NCW first started meeting in 2020 in response to COVID19 to coordinate a national response and has met regularly since.
URL:https://scarletalliance.org.au/event/national-cabinet-of-whores/2026-03-05/
ATTACH;FMTTYPE=image/jpeg:https://scarletalliance.org.au/wp-content/uploads/NCW-pic.jpg
ORGANIZER;CN="Scarlet Alliance":MAILTO:info@scarletalliance.org.au
END:VEVENT
BEGIN:VEVENT
DTSTART;VALUE=DATE:20260308
DTEND;VALUE=DATE:20260309
DTSTAMP:20260422T125811
CREATED:20240209T012709Z
LAST-MODIFIED:20240221T053226Z
UID:10000103-1772928000-1773014399@scarletalliance.org.au
SUMMARY:International Working Women's Day
DESCRIPTION:Every year\, 8 March is an opportunity for sex workers to show solidarity with feminist movements\, speak and attend events\, and promote the rallies for International Working Women’s Day. \nWatch out for socials\, promo\, stories and activities near you!
URL:https://scarletalliance.org.au/event/international-working-womens-day/2026-03-08/
CATEGORIES:Days of Significance
ATTACH;FMTTYPE=image/jpeg:https://scarletalliance.org.au/wp-content/uploads/IWWD2019.jpg
END:VEVENT
BEGIN:VEVENT
DTSTART;TZID=Australia/Sydney:20260310T140000
DTEND;TZID=Australia/Sydney:20260310T160000
DTSTAMP:20260422T125811
CREATED:20240402T012026Z
LAST-MODIFIED:20250723T235640Z
UID:10000337-1773151200-1773158400@scarletalliance.org.au
SUMMARY:SWOP NSW Indie Worker Drop Ins
DESCRIPTION:Come for snacks\, chats and workers packs. Held on the second Tuesday of the month from 2-4pm
URL:https://scarletalliance.org.au/event/swop-nsw-indie-worker-drop-ins/2026-03-10/
LOCATION:SWOP NSW\, 7/110 Bontay Rd\, Sydney\, NSW\, 2015\, Australia
CATEGORIES:Outreach
ATTACH;FMTTYPE=image/png:https://scarletalliance.org.au/wp-content/uploads/Screenshot-2024-09-25-153849.png
ORGANIZER;CN="SWOP NSW":MAILTO:swopconnect@swop.org.au
END:VEVENT
BEGIN:VEVENT
DTSTART;VALUE=DATE:20260331
DTEND;VALUE=DATE:20260401
DTSTAMP:20260422T125811
CREATED:20240221T051445Z
LAST-MODIFIED:20240221T053254Z
UID:10000266-1774915200-1775001599@scarletalliance.org.au
SUMMARY:Trans Day of Visibility
DESCRIPTION:Trans Day of Visibility is an annual international celebration of trans pride and awareness\, recognising trans and gender diverse experiences and achievements! \nOn 31 March celebrate with gender diverse people all around Australia by sharing stories\, starting conversations\, and attending events.
URL:https://scarletalliance.org.au/event/trans-day-of-visibility/2026-03-31/
CATEGORIES:Days of Significance
ATTACH;FMTTYPE=image/jpeg:https://scarletalliance.org.au/wp-content/uploads/trans_day_of_visibility-scaled.jpg
END:VEVENT
END:VCALENDAR