BEGIN:VCALENDAR
VERSION:2.0
PRODID:-//Scarlet Alliance - ECPv6.15.12.2//NONSGML v1.0//EN
CALSCALE:GREGORIAN
METHOD:PUBLISH
X-ORIGINAL-URL:https://scarletalliance.org.au
X-WR-CALDESC:Events for Scarlet Alliance
REFRESH-INTERVAL;VALUE=DURATION:PT1H
X-Robots-Tag:noindex
X-PUBLISHED-TTL:PT1H
BEGIN:VTIMEZONE
TZID:Australia/Sydney
BEGIN:STANDARD
TZOFFSETFROM:+1100
TZOFFSETTO:+1000
TZNAME:AEST
DTSTART:20250405T160000
END:STANDARD
BEGIN:DAYLIGHT
TZOFFSETFROM:+1000
TZOFFSETTO:+1100
TZNAME:AEDT
DTSTART:20251004T160000
END:DAYLIGHT
BEGIN:STANDARD
TZOFFSETFROM:+1100
TZOFFSETTO:+1000
TZNAME:AEST
DTSTART:20260404T160000
END:STANDARD
BEGIN:DAYLIGHT
TZOFFSETFROM:+1000
TZOFFSETTO:+1100
TZNAME:AEDT
DTSTART:20261003T160000
END:DAYLIGHT
BEGIN:STANDARD
TZOFFSETFROM:+1100
TZOFFSETTO:+1000
TZNAME:AEST
DTSTART:20270403T160000
END:STANDARD
BEGIN:DAYLIGHT
TZOFFSETFROM:+1000
TZOFFSETTO:+1100
TZNAME:AEDT
DTSTART:20271002T160000
END:DAYLIGHT
END:VTIMEZONE
BEGIN:VEVENT
DTSTART;VALUE=DATE:20260501
DTEND;VALUE=DATE:20260502
DTSTAMP:20260422T163551
CREATED:20240221T060108Z
LAST-MODIFIED:20240221T060108Z
UID:10000272-1777593600-1777679999@scarletalliance.org.au
SUMMARY:May Day
DESCRIPTION:May Day is an annual celebration day for rallies and events held by Union peak bodies in most capital cities and regional centers each year. Keep an eye out for activities near you!
URL:https://scarletalliance.org.au/event/may-day/2026-05-01/
CATEGORIES:Days of Significance
ATTACH;FMTTYPE=image/jpeg:https://scarletalliance.org.au/wp-content/uploads/SWOP-NT-May-Day-2006.jpeg
END:VEVENT
BEGIN:VEVENT
DTSTART;TZID=Australia/Sydney:20260507T160000
DTEND;TZID=Australia/Sydney:20260507T180000
DTSTAMP:20260422T163551
CREATED:20240209T024353Z
LAST-MODIFIED:20240221T053218Z
UID:10000068-1778169600-1778176800@scarletalliance.org.au
SUMMARY:National Cabinet of Whores
DESCRIPTION:Scarlet Alliance hosts a monthly “National Cabinet” meeting for the leadership of sex worker organisations in so-called Australia. \nThe NCW first started meeting in 2020 in response to COVID19 to coordinate a national response and has met regularly since.
URL:https://scarletalliance.org.au/event/national-cabinet-of-whores/2026-05-07/
ATTACH;FMTTYPE=image/jpeg:https://scarletalliance.org.au/wp-content/uploads/NCW-pic.jpg
ORGANIZER;CN="Scarlet Alliance":MAILTO:info@scarletalliance.org.au
END:VEVENT
BEGIN:VEVENT
DTSTART;TZID=Australia/Sydney:20260512T140000
DTEND;TZID=Australia/Sydney:20260512T160000
DTSTAMP:20260422T163551
CREATED:20240402T012026Z
LAST-MODIFIED:20250723T235640Z
UID:10000339-1778594400-1778601600@scarletalliance.org.au
SUMMARY:SWOP NSW Indie Worker Drop Ins
DESCRIPTION:Come for snacks\, chats and workers packs. Held on the second Tuesday of the month from 2-4pm
URL:https://scarletalliance.org.au/event/swop-nsw-indie-worker-drop-ins/2026-05-12/
LOCATION:SWOP NSW\, 7/110 Bontay Rd\, Sydney\, NSW\, 2015\, Australia
CATEGORIES:Outreach
ATTACH;FMTTYPE=image/png:https://scarletalliance.org.au/wp-content/uploads/Screenshot-2024-09-25-153849.png
ORGANIZER;CN="SWOP NSW":MAILTO:swopconnect@swop.org.au
END:VEVENT
END:VCALENDAR