BEGIN:VCALENDAR
VERSION:2.0
PRODID:-//Scarlet Alliance - ECPv6.15.12.2//NONSGML v1.0//EN
CALSCALE:GREGORIAN
METHOD:PUBLISH
X-WR-CALNAME:Scarlet Alliance
X-ORIGINAL-URL:https://scarletalliance.org.au
X-WR-CALDESC:Events for Scarlet Alliance
REFRESH-INTERVAL;VALUE=DURATION:PT1H
X-Robots-Tag:noindex
X-PUBLISHED-TTL:PT1H
BEGIN:VTIMEZONE
TZID:Australia/Sydney
BEGIN:STANDARD
TZOFFSETFROM:+1100
TZOFFSETTO:+1000
TZNAME:AEST
DTSTART:20250405T160000
END:STANDARD
BEGIN:DAYLIGHT
TZOFFSETFROM:+1000
TZOFFSETTO:+1100
TZNAME:AEDT
DTSTART:20251004T160000
END:DAYLIGHT
BEGIN:STANDARD
TZOFFSETFROM:+1100
TZOFFSETTO:+1000
TZNAME:AEST
DTSTART:20260404T160000
END:STANDARD
BEGIN:DAYLIGHT
TZOFFSETFROM:+1000
TZOFFSETTO:+1100
TZNAME:AEDT
DTSTART:20261003T160000
END:DAYLIGHT
BEGIN:STANDARD
TZOFFSETFROM:+1100
TZOFFSETTO:+1000
TZNAME:AEST
DTSTART:20270403T160000
END:STANDARD
BEGIN:DAYLIGHT
TZOFFSETFROM:+1000
TZOFFSETTO:+1100
TZNAME:AEDT
DTSTART:20271002T160000
END:DAYLIGHT
END:VTIMEZONE
BEGIN:VEVENT
DTSTART;TZID=Australia/Sydney:20260903T160000
DTEND;TZID=Australia/Sydney:20260903T180000
DTSTAMP:20260424T190148
CREATED:20240209T024353Z
LAST-MODIFIED:20240221T053218Z
UID:10000072-1788451200-1788458400@scarletalliance.org.au
SUMMARY:National Cabinet of Whores
DESCRIPTION:Scarlet Alliance hosts a monthly “National Cabinet” meeting for the leadership of sex worker organisations in so-called Australia. \nThe NCW first started meeting in 2020 in response to COVID19 to coordinate a national response and has met regularly since.
URL:https://scarletalliance.org.au/event/national-cabinet-of-whores/2026-09-03/
ATTACH;FMTTYPE=image/jpeg:https://scarletalliance.org.au/wp-content/uploads/NCW-pic.jpg
ORGANIZER;CN="Scarlet Alliance":MAILTO:info@scarletalliance.org.au
END:VEVENT
BEGIN:VEVENT
DTSTART;TZID=Australia/Sydney:20260908T140000
DTEND;TZID=Australia/Sydney:20260908T160000
DTSTAMP:20260424T190148
CREATED:20240402T012026Z
LAST-MODIFIED:20250723T235640Z
UID:10000343-1788876000-1788883200@scarletalliance.org.au
SUMMARY:SWOP NSW Indie Worker Drop Ins
DESCRIPTION:Come for snacks\, chats and workers packs. Held on the second Tuesday of the month from 2-4pm
URL:https://scarletalliance.org.au/event/swop-nsw-indie-worker-drop-ins/2026-09-08/
LOCATION:SWOP NSW\, 7/110 Bontay Rd\, Sydney\, NSW\, 2015\, Australia
CATEGORIES:Outreach
ATTACH;FMTTYPE=image/png:https://scarletalliance.org.au/wp-content/uploads/Screenshot-2024-09-25-153849.png
ORGANIZER;CN="SWOP NSW":MAILTO:swopconnect@swop.org.au
END:VEVENT
BEGIN:VEVENT
DTSTART;VALUE=DATE:20260914
DTEND;VALUE=DATE:20260915
DTSTAMP:20260424T190148
CREATED:20240209T025338Z
LAST-MODIFIED:20240221T011520Z
UID:10000111-1789344000-1789430399@scarletalliance.org.au
SUMMARY:International Sex Worker Pride Day
DESCRIPTION:Someone you love and respect is a sex worker! So\, tell us how much you care and support our work! Today is a day to reach out and tell us how incredibly important the work of sex workers is to you. \nThe day was created in 2019 by the Global Network of Sex Work Projects (NSWP) to glorify the achievements of this movement and allow sex workers to share survival and determination stories.
URL:https://scarletalliance.org.au/event/international-sex-worker-pride-day/2026-09-14/
CATEGORIES:Days of Significance
ATTACH;FMTTYPE=image/jpeg:https://scarletalliance.org.au/wp-content/uploads/Mardi-Gras-2019.jpg
END:VEVENT
END:VCALENDAR