BEGIN:VCALENDAR
VERSION:2.0
PRODID:-//Scarlet Alliance - ECPv6.15.12.2//NONSGML v1.0//EN
CALSCALE:GREGORIAN
METHOD:PUBLISH
X-WR-CALNAME:Scarlet Alliance
X-ORIGINAL-URL:https://scarletalliance.org.au
X-WR-CALDESC:Events for Scarlet Alliance
REFRESH-INTERVAL;VALUE=DURATION:PT1H
X-Robots-Tag:noindex
X-PUBLISHED-TTL:PT1H
BEGIN:VTIMEZONE
TZID:Australia/Sydney
BEGIN:STANDARD
TZOFFSETFROM:+1100
TZOFFSETTO:+1000
TZNAME:AEST
DTSTART:20230401T160000
END:STANDARD
BEGIN:DAYLIGHT
TZOFFSETFROM:+1000
TZOFFSETTO:+1100
TZNAME:AEDT
DTSTART:20230930T160000
END:DAYLIGHT
BEGIN:STANDARD
TZOFFSETFROM:+1100
TZOFFSETTO:+1000
TZNAME:AEST
DTSTART:20240406T160000
END:STANDARD
BEGIN:DAYLIGHT
TZOFFSETFROM:+1000
TZOFFSETTO:+1100
TZNAME:AEDT
DTSTART:20241005T160000
END:DAYLIGHT
BEGIN:STANDARD
TZOFFSETFROM:+1100
TZOFFSETTO:+1000
TZNAME:AEST
DTSTART:20250405T160000
END:STANDARD
BEGIN:DAYLIGHT
TZOFFSETFROM:+1000
TZOFFSETTO:+1100
TZNAME:AEDT
DTSTART:20251004T160000
END:DAYLIGHT
END:VTIMEZONE
BEGIN:VEVENT
DTSTART;VALUE=DATE:20241218
DTEND;VALUE=DATE:20241219
DTSTAMP:20260422T013019
CREATED:20240731T060322Z
LAST-MODIFIED:20240904T051308Z
UID:10000475-1734480000-1734566399@scarletalliance.org.au
SUMMARY:Respect Inc Crimson Clinic
DESCRIPTION:Crimson Clinic is for sex workers only and is 100% free. You will need a current Medicare number. The staff at the front desk are from Respect Inc. \nText 0424657064 for bookings.\nAddress: Shop 16 Central Brunswick\, 421 Brunswick Street\, Fortitude Valley
URL:https://scarletalliance.org.au/event/respect-inc-crimson-clinic/2024-12-18/
LOCATION:Crimson Clinic\, Shop 16 Central Brunswick\, 421 Brunswick Street\,\, Fortitude Valley\, QLD\, 4006\, Australia
ATTACH;FMTTYPE=image/png:https://scarletalliance.org.au/wp-content/uploads/Screenshot-2024-07-31-155523.png
ORGANIZER;CN="Respect QLD":MAILTO:info@respectqld.org.au
END:VEVENT
BEGIN:VEVENT
DTSTART;VALUE=DATE:20241204
DTEND;VALUE=DATE:20241205
DTSTAMP:20260422T013019
CREATED:20240731T060322Z
LAST-MODIFIED:20240904T051308Z
UID:10000474-1733270400-1733356799@scarletalliance.org.au
SUMMARY:Respect Inc Crimson Clinic
DESCRIPTION:Crimson Clinic is for sex workers only and is 100% free. You will need a current Medicare number. The staff at the front desk are from Respect Inc. \nText 0424657064 for bookings.\nAddress: Shop 16 Central Brunswick\, 421 Brunswick Street\, Fortitude Valley
URL:https://scarletalliance.org.au/event/respect-inc-crimson-clinic/2024-12-04/
LOCATION:Crimson Clinic\, Shop 16 Central Brunswick\, 421 Brunswick Street\,\, Fortitude Valley\, QLD\, 4006\, Australia
ATTACH;FMTTYPE=image/png:https://scarletalliance.org.au/wp-content/uploads/Screenshot-2024-07-31-155523.png
ORGANIZER;CN="Respect QLD":MAILTO:info@respectqld.org.au
END:VEVENT
BEGIN:VEVENT
DTSTART;VALUE=DATE:20241120
DTEND;VALUE=DATE:20241121
DTSTAMP:20260422T013019
CREATED:20240731T060322Z
LAST-MODIFIED:20240904T051308Z
UID:10000473-1732060800-1732147199@scarletalliance.org.au
SUMMARY:Respect Inc Crimson Clinic
DESCRIPTION:Crimson Clinic is for sex workers only and is 100% free. You will need a current Medicare number. The staff at the front desk are from Respect Inc. \nText 0424657064 for bookings.\nAddress: Shop 16 Central Brunswick\, 421 Brunswick Street\, Fortitude Valley
URL:https://scarletalliance.org.au/event/respect-inc-crimson-clinic/2024-11-20/
LOCATION:Crimson Clinic\, Shop 16 Central Brunswick\, 421 Brunswick Street\,\, Fortitude Valley\, QLD\, 4006\, Australia
ATTACH;FMTTYPE=image/png:https://scarletalliance.org.au/wp-content/uploads/Screenshot-2024-07-31-155523.png
ORGANIZER;CN="Respect QLD":MAILTO:info@respectqld.org.au
END:VEVENT
BEGIN:VEVENT
DTSTART;VALUE=DATE:20241106
DTEND;VALUE=DATE:20241107
DTSTAMP:20260422T013019
CREATED:20240731T060322Z
LAST-MODIFIED:20240904T051308Z
UID:10000472-1730851200-1730937599@scarletalliance.org.au
SUMMARY:Respect Inc Crimson Clinic
DESCRIPTION:Crimson Clinic is for sex workers only and is 100% free. You will need a current Medicare number. The staff at the front desk are from Respect Inc. \nText 0424657064 for bookings.\nAddress: Shop 16 Central Brunswick\, 421 Brunswick Street\, Fortitude Valley
URL:https://scarletalliance.org.au/event/respect-inc-crimson-clinic/2024-11-06/
LOCATION:Crimson Clinic\, Shop 16 Central Brunswick\, 421 Brunswick Street\,\, Fortitude Valley\, QLD\, 4006\, Australia
ATTACH;FMTTYPE=image/png:https://scarletalliance.org.au/wp-content/uploads/Screenshot-2024-07-31-155523.png
ORGANIZER;CN="Respect QLD":MAILTO:info@respectqld.org.au
END:VEVENT
BEGIN:VEVENT
DTSTART;VALUE=DATE:20241023
DTEND;VALUE=DATE:20241024
DTSTAMP:20260422T013019
CREATED:20240731T060322Z
LAST-MODIFIED:20240904T051308Z
UID:10000471-1729641600-1729727999@scarletalliance.org.au
SUMMARY:Respect Inc Crimson Clinic
DESCRIPTION:Crimson Clinic is for sex workers only and is 100% free. You will need a current Medicare number. The staff at the front desk are from Respect Inc. \nText 0424657064 for bookings.\nAddress: Shop 16 Central Brunswick\, 421 Brunswick Street\, Fortitude Valley
URL:https://scarletalliance.org.au/event/respect-inc-crimson-clinic/2024-10-23/
LOCATION:Crimson Clinic\, Shop 16 Central Brunswick\, 421 Brunswick Street\,\, Fortitude Valley\, QLD\, 4006\, Australia
ATTACH;FMTTYPE=image/png:https://scarletalliance.org.au/wp-content/uploads/Screenshot-2024-07-31-155523.png
ORGANIZER;CN="Respect QLD":MAILTO:info@respectqld.org.au
END:VEVENT
BEGIN:VEVENT
DTSTART;VALUE=DATE:20241009
DTEND;VALUE=DATE:20241010
DTSTAMP:20260422T013019
CREATED:20240731T060322Z
LAST-MODIFIED:20240904T051308Z
UID:10000470-1728432000-1728518399@scarletalliance.org.au
SUMMARY:Respect Inc Crimson Clinic
DESCRIPTION:Crimson Clinic is for sex workers only and is 100% free. You will need a current Medicare number. The staff at the front desk are from Respect Inc. \nText 0424657064 for bookings.\nAddress: Shop 16 Central Brunswick\, 421 Brunswick Street\, Fortitude Valley
URL:https://scarletalliance.org.au/event/respect-inc-crimson-clinic/2024-10-09/
LOCATION:Crimson Clinic\, Shop 16 Central Brunswick\, 421 Brunswick Street\,\, Fortitude Valley\, QLD\, 4006\, Australia
ATTACH;FMTTYPE=image/png:https://scarletalliance.org.au/wp-content/uploads/Screenshot-2024-07-31-155523.png
ORGANIZER;CN="Respect QLD":MAILTO:info@respectqld.org.au
END:VEVENT
BEGIN:VEVENT
DTSTART;VALUE=DATE:20240925
DTEND;VALUE=DATE:20240926
DTSTAMP:20260422T013019
CREATED:20240731T060322Z
LAST-MODIFIED:20240904T051308Z
UID:10000469-1727222400-1727308799@scarletalliance.org.au
SUMMARY:Respect Inc Crimson Clinic
DESCRIPTION:Crimson Clinic is for sex workers only and is 100% free. You will need a current Medicare number. The staff at the front desk are from Respect Inc. \nText 0424657064 for bookings.\nAddress: Shop 16 Central Brunswick\, 421 Brunswick Street\, Fortitude Valley
URL:https://scarletalliance.org.au/event/respect-inc-crimson-clinic/2024-09-25/
LOCATION:Crimson Clinic\, Shop 16 Central Brunswick\, 421 Brunswick Street\,\, Fortitude Valley\, QLD\, 4006\, Australia
ATTACH;FMTTYPE=image/png:https://scarletalliance.org.au/wp-content/uploads/Screenshot-2024-07-31-155523.png
ORGANIZER;CN="Respect QLD":MAILTO:info@respectqld.org.au
END:VEVENT
BEGIN:VEVENT
DTSTART;VALUE=DATE:20240911
DTEND;VALUE=DATE:20240912
DTSTAMP:20260422T013019
CREATED:20240731T060322Z
LAST-MODIFIED:20240904T051308Z
UID:10000468-1726012800-1726099199@scarletalliance.org.au
SUMMARY:Respect Inc Crimson Clinic
DESCRIPTION:Crimson Clinic is for sex workers only and is 100% free. You will need a current Medicare number. The staff at the front desk are from Respect Inc. \nText 0424657064 for bookings.\nAddress: Shop 16 Central Brunswick\, 421 Brunswick Street\, Fortitude Valley
URL:https://scarletalliance.org.au/event/respect-inc-crimson-clinic/2024-09-11/
LOCATION:Crimson Clinic\, Shop 16 Central Brunswick\, 421 Brunswick Street\,\, Fortitude Valley\, QLD\, 4006\, Australia
ATTACH;FMTTYPE=image/png:https://scarletalliance.org.au/wp-content/uploads/Screenshot-2024-07-31-155523.png
ORGANIZER;CN="Respect QLD":MAILTO:info@respectqld.org.au
END:VEVENT
BEGIN:VEVENT
DTSTART;VALUE=DATE:20240828
DTEND;VALUE=DATE:20240829
DTSTAMP:20260422T013019
CREATED:20240731T060322Z
LAST-MODIFIED:20240904T051308Z
UID:10000467-1724803200-1724889599@scarletalliance.org.au
SUMMARY:Respect Inc Crimson Clinic
DESCRIPTION:Crimson Clinic is for sex workers only and is 100% free. You will need a current Medicare number. The staff at the front desk are from Respect Inc. \nText 0424657064 for bookings.\nAddress: Shop 16 Central Brunswick\, 421 Brunswick Street\, Fortitude Valley
URL:https://scarletalliance.org.au/event/respect-inc-crimson-clinic/2024-08-28/
LOCATION:Crimson Clinic\, Shop 16 Central Brunswick\, 421 Brunswick Street\,\, Fortitude Valley\, QLD\, 4006\, Australia
ATTACH;FMTTYPE=image/png:https://scarletalliance.org.au/wp-content/uploads/Screenshot-2024-07-31-155523.png
ORGANIZER;CN="Respect QLD":MAILTO:info@respectqld.org.au
END:VEVENT
END:VCALENDAR