BEGIN:VCALENDAR
VERSION:2.0
PRODID:-//Scarlet Alliance - ECPv6.15.12.2//NONSGML v1.0//EN
CALSCALE:GREGORIAN
METHOD:PUBLISH
X-ORIGINAL-URL:https://scarletalliance.org.au
X-WR-CALDESC:Events for Scarlet Alliance
REFRESH-INTERVAL;VALUE=DURATION:PT1H
X-Robots-Tag:noindex
X-PUBLISHED-TTL:PT1H
BEGIN:VTIMEZONE
TZID:Australia/Sydney
BEGIN:STANDARD
TZOFFSETFROM:+1100
TZOFFSETTO:+1000
TZNAME:AEST
DTSTART:20230401T160000
END:STANDARD
BEGIN:DAYLIGHT
TZOFFSETFROM:+1000
TZOFFSETTO:+1100
TZNAME:AEDT
DTSTART:20230930T160000
END:DAYLIGHT
BEGIN:STANDARD
TZOFFSETFROM:+1100
TZOFFSETTO:+1000
TZNAME:AEST
DTSTART:20240406T160000
END:STANDARD
BEGIN:DAYLIGHT
TZOFFSETFROM:+1000
TZOFFSETTO:+1100
TZNAME:AEDT
DTSTART:20241005T160000
END:DAYLIGHT
BEGIN:STANDARD
TZOFFSETFROM:+1100
TZOFFSETTO:+1000
TZNAME:AEST
DTSTART:20250405T160000
END:STANDARD
BEGIN:DAYLIGHT
TZOFFSETFROM:+1000
TZOFFSETTO:+1100
TZNAME:AEDT
DTSTART:20251004T160000
END:DAYLIGHT
BEGIN:STANDARD
TZOFFSETFROM:+1100
TZOFFSETTO:+1000
TZNAME:AEST
DTSTART:20260404T160000
END:STANDARD
BEGIN:DAYLIGHT
TZOFFSETFROM:+1000
TZOFFSETTO:+1100
TZNAME:AEDT
DTSTART:20261003T160000
END:DAYLIGHT
END:VTIMEZONE
BEGIN:VEVENT
DTSTART;TZID=Australia/Sydney:20251112T170000
DTEND;TZID=Australia/Sydney:20251112T180000
DTSTAMP:20260421T195958
CREATED:20241021T231751Z
LAST-MODIFIED:20241021T231751Z
UID:10000234-1762966800-1762970400@scarletalliance.org.au
SUMMARY:Respect Inc Sistahs of the Pole
DESCRIPTION:Free\, private and confidential stripper-only sharing circle held every second Wednesday of the month from 4pm to 5pm. RSVP to info@respect.org.au.
URL:https://scarletalliance.org.au/event/respect-inc-sistahs-of-the-pole-2/2025-11-12/
LOCATION:Queensland\, QLD\, Australia
CATEGORIES:Peer Education
ATTACH;FMTTYPE=image/png:https://scarletalliance.org.au/wp-content/uploads/Screenshot-2024-10-22-101601.png
ORGANIZER;CN="Respect QLD":MAILTO:info@respectqld.org.au
END:VEVENT
BEGIN:VEVENT
DTSTART;TZID=Australia/Sydney:20251008T170000
DTEND;TZID=Australia/Sydney:20251008T180000
DTSTAMP:20260421T195958
CREATED:20241021T231751Z
LAST-MODIFIED:20241021T231751Z
UID:10000233-1759942800-1759946400@scarletalliance.org.au
SUMMARY:Respect Inc Sistahs of the Pole
DESCRIPTION:Free\, private and confidential stripper-only sharing circle held every second Wednesday of the month from 4pm to 5pm. RSVP to info@respect.org.au.
URL:https://scarletalliance.org.au/event/respect-inc-sistahs-of-the-pole-2/2025-10-08/
LOCATION:Queensland\, QLD\, Australia
CATEGORIES:Peer Education
ATTACH;FMTTYPE=image/png:https://scarletalliance.org.au/wp-content/uploads/Screenshot-2024-10-22-101601.png
ORGANIZER;CN="Respect QLD":MAILTO:info@respectqld.org.au
END:VEVENT
BEGIN:VEVENT
DTSTART;TZID=Australia/Sydney:20250910T160000
DTEND;TZID=Australia/Sydney:20250910T170000
DTSTAMP:20260421T195958
CREATED:20241021T231751Z
LAST-MODIFIED:20241021T231751Z
UID:10000232-1757520000-1757523600@scarletalliance.org.au
SUMMARY:Respect Inc Sistahs of the Pole
DESCRIPTION:Free\, private and confidential stripper-only sharing circle held every second Wednesday of the month from 4pm to 5pm. RSVP to info@respect.org.au.
URL:https://scarletalliance.org.au/event/respect-inc-sistahs-of-the-pole-2/2025-09-10/
LOCATION:Queensland\, QLD\, Australia
CATEGORIES:Peer Education
ATTACH;FMTTYPE=image/png:https://scarletalliance.org.au/wp-content/uploads/Screenshot-2024-10-22-101601.png
ORGANIZER;CN="Respect QLD":MAILTO:info@respectqld.org.au
END:VEVENT
BEGIN:VEVENT
DTSTART;TZID=Australia/Sydney:20250813T160000
DTEND;TZID=Australia/Sydney:20250813T170000
DTSTAMP:20260421T195958
CREATED:20241021T231751Z
LAST-MODIFIED:20241021T231751Z
UID:10000231-1755100800-1755104400@scarletalliance.org.au
SUMMARY:Respect Inc Sistahs of the Pole
DESCRIPTION:Free\, private and confidential stripper-only sharing circle held every second Wednesday of the month from 4pm to 5pm. RSVP to info@respect.org.au.
URL:https://scarletalliance.org.au/event/respect-inc-sistahs-of-the-pole-2/2025-08-13/
LOCATION:Queensland\, QLD\, Australia
CATEGORIES:Peer Education
ATTACH;FMTTYPE=image/png:https://scarletalliance.org.au/wp-content/uploads/Screenshot-2024-10-22-101601.png
ORGANIZER;CN="Respect QLD":MAILTO:info@respectqld.org.au
END:VEVENT
BEGIN:VEVENT
DTSTART;TZID=Australia/Sydney:20250709T160000
DTEND;TZID=Australia/Sydney:20250709T170000
DTSTAMP:20260421T195958
CREATED:20241021T231751Z
LAST-MODIFIED:20241021T231751Z
UID:10000230-1752076800-1752080400@scarletalliance.org.au
SUMMARY:Respect Inc Sistahs of the Pole
DESCRIPTION:Free\, private and confidential stripper-only sharing circle held every second Wednesday of the month from 4pm to 5pm. RSVP to info@respect.org.au.
URL:https://scarletalliance.org.au/event/respect-inc-sistahs-of-the-pole-2/2025-07-09/
LOCATION:Queensland\, QLD\, Australia
CATEGORIES:Peer Education
ATTACH;FMTTYPE=image/png:https://scarletalliance.org.au/wp-content/uploads/Screenshot-2024-10-22-101601.png
ORGANIZER;CN="Respect QLD":MAILTO:info@respectqld.org.au
END:VEVENT
BEGIN:VEVENT
DTSTART;TZID=Australia/Sydney:20250611T160000
DTEND;TZID=Australia/Sydney:20250611T170000
DTSTAMP:20260421T195958
CREATED:20241021T231751Z
LAST-MODIFIED:20241021T231751Z
UID:10000229-1749657600-1749661200@scarletalliance.org.au
SUMMARY:Respect Inc Sistahs of the Pole
DESCRIPTION:Free\, private and confidential stripper-only sharing circle held every second Wednesday of the month from 4pm to 5pm. RSVP to info@respect.org.au.
URL:https://scarletalliance.org.au/event/respect-inc-sistahs-of-the-pole-2/2025-06-11/
LOCATION:Queensland\, QLD\, Australia
CATEGORIES:Peer Education
ATTACH;FMTTYPE=image/png:https://scarletalliance.org.au/wp-content/uploads/Screenshot-2024-10-22-101601.png
ORGANIZER;CN="Respect QLD":MAILTO:info@respectqld.org.au
END:VEVENT
BEGIN:VEVENT
DTSTART;TZID=Australia/Sydney:20250514T160000
DTEND;TZID=Australia/Sydney:20250514T170000
DTSTAMP:20260421T195958
CREATED:20241021T231751Z
LAST-MODIFIED:20241021T231751Z
UID:10000228-1747238400-1747242000@scarletalliance.org.au
SUMMARY:Respect Inc Sistahs of the Pole
DESCRIPTION:Free\, private and confidential stripper-only sharing circle held every second Wednesday of the month from 4pm to 5pm. RSVP to info@respect.org.au.
URL:https://scarletalliance.org.au/event/respect-inc-sistahs-of-the-pole-2/2025-05-14/
LOCATION:Queensland\, QLD\, Australia
CATEGORIES:Peer Education
ATTACH;FMTTYPE=image/png:https://scarletalliance.org.au/wp-content/uploads/Screenshot-2024-10-22-101601.png
ORGANIZER;CN="Respect QLD":MAILTO:info@respectqld.org.au
END:VEVENT
BEGIN:VEVENT
DTSTART;TZID=Australia/Sydney:20250409T160000
DTEND;TZID=Australia/Sydney:20250409T170000
DTSTAMP:20260421T195958
CREATED:20241021T231751Z
LAST-MODIFIED:20241021T231751Z
UID:10000227-1744214400-1744218000@scarletalliance.org.au
SUMMARY:Respect Inc Sistahs of the Pole
DESCRIPTION:Free\, private and confidential stripper-only sharing circle held every second Wednesday of the month from 4pm to 5pm. RSVP to info@respect.org.au.
URL:https://scarletalliance.org.au/event/respect-inc-sistahs-of-the-pole-2/2025-04-09/
LOCATION:Queensland\, QLD\, Australia
CATEGORIES:Peer Education
ATTACH;FMTTYPE=image/png:https://scarletalliance.org.au/wp-content/uploads/Screenshot-2024-10-22-101601.png
ORGANIZER;CN="Respect QLD":MAILTO:info@respectqld.org.au
END:VEVENT
BEGIN:VEVENT
DTSTART;TZID=Australia/Sydney:20250312T170000
DTEND;TZID=Australia/Sydney:20250312T180000
DTSTAMP:20260421T195958
CREATED:20241021T231751Z
LAST-MODIFIED:20241021T231751Z
UID:10000226-1741798800-1741802400@scarletalliance.org.au
SUMMARY:Respect Inc Sistahs of the Pole
DESCRIPTION:Free\, private and confidential stripper-only sharing circle held every second Wednesday of the month from 4pm to 5pm. RSVP to info@respect.org.au.
URL:https://scarletalliance.org.au/event/respect-inc-sistahs-of-the-pole-2/2025-03-12/
LOCATION:Queensland\, QLD\, Australia
CATEGORIES:Peer Education
ATTACH;FMTTYPE=image/png:https://scarletalliance.org.au/wp-content/uploads/Screenshot-2024-10-22-101601.png
ORGANIZER;CN="Respect QLD":MAILTO:info@respectqld.org.au
END:VEVENT
BEGIN:VEVENT
DTSTART;VALUE=DATE:20250310
DTEND;VALUE=DATE:20250315
DTSTAMP:20260421T195958
CREATED:20250303T234747Z
LAST-MODIFIED:20250303T234747Z
UID:10000529-1741564800-1741996799@scarletalliance.org.au
SUMMARY:RESPECT INC Wide Bay Outreach
DESCRIPTION:Respect Inc will be conducting regional outreach in: \n\nGladstone\nRockhampton\nBundaberg\nSunshine Coast\n\nWhen: 10 – 14 March 2025\nContact: 0437 000 724 \nWe can come to you or meet you somewhere you feel comfortable. \nWe have lots of freebies to bring and can offer info/resources about Decrim\, the changes to the laws\, the new work health & safety guidance\, advertising\, referrals\, workshops etc\, or just have a coffee and a chat!
URL:https://scarletalliance.org.au/event/respect-inc-wide-bay-outreach/
LOCATION:Queensland\, QLD\, Australia
CATEGORIES:Outreach
ATTACH;FMTTYPE=image/png:https://scarletalliance.org.au/wp-content/uploads/Screenshot-2025-03-04-104345.png
ORGANIZER;CN="Respect QLD":MAILTO:info@respectqld.org.au
END:VEVENT
BEGIN:VEVENT
DTSTART;TZID=Australia/Sydney:20250212T170000
DTEND;TZID=Australia/Sydney:20250212T180000
DTSTAMP:20260421T195958
CREATED:20241021T231751Z
LAST-MODIFIED:20241021T231751Z
UID:10000225-1739379600-1739383200@scarletalliance.org.au
SUMMARY:Respect Inc Sistahs of the Pole
DESCRIPTION:Free\, private and confidential stripper-only sharing circle held every second Wednesday of the month from 4pm to 5pm. RSVP to info@respect.org.au.
URL:https://scarletalliance.org.au/event/respect-inc-sistahs-of-the-pole-2/2025-02-12/
LOCATION:Queensland\, QLD\, Australia
CATEGORIES:Peer Education
ATTACH;FMTTYPE=image/png:https://scarletalliance.org.au/wp-content/uploads/Screenshot-2024-10-22-101601.png
ORGANIZER;CN="Respect QLD":MAILTO:info@respectqld.org.au
END:VEVENT
BEGIN:VEVENT
DTSTART;TZID=Australia/Sydney:20250108T170000
DTEND;TZID=Australia/Sydney:20250108T180000
DTSTAMP:20260421T195958
CREATED:20241021T231751Z
LAST-MODIFIED:20241021T231751Z
UID:10000224-1736355600-1736359200@scarletalliance.org.au
SUMMARY:Respect Inc Sistahs of the Pole
DESCRIPTION:Free\, private and confidential stripper-only sharing circle held every second Wednesday of the month from 4pm to 5pm. RSVP to info@respect.org.au.
URL:https://scarletalliance.org.au/event/respect-inc-sistahs-of-the-pole-2/2025-01-08/
LOCATION:Queensland\, QLD\, Australia
CATEGORIES:Peer Education
ATTACH;FMTTYPE=image/png:https://scarletalliance.org.au/wp-content/uploads/Screenshot-2024-10-22-101601.png
ORGANIZER;CN="Respect QLD":MAILTO:info@respectqld.org.au
END:VEVENT
BEGIN:VEVENT
DTSTART;TZID=Australia/Sydney:20241211T170000
DTEND;TZID=Australia/Sydney:20241211T180000
DTSTAMP:20260421T195958
CREATED:20241021T231751Z
LAST-MODIFIED:20241021T231751Z
UID:10000223-1733936400-1733940000@scarletalliance.org.au
SUMMARY:Respect Inc Sistahs of the Pole
DESCRIPTION:Free\, private and confidential stripper-only sharing circle held every second Wednesday of the month from 4pm to 5pm. RSVP to info@respect.org.au.
URL:https://scarletalliance.org.au/event/respect-inc-sistahs-of-the-pole-2/2024-12-11/
LOCATION:Queensland\, QLD\, Australia
CATEGORIES:Peer Education
ATTACH;FMTTYPE=image/png:https://scarletalliance.org.au/wp-content/uploads/Screenshot-2024-10-22-101601.png
ORGANIZER;CN="Respect QLD":MAILTO:info@respectqld.org.au
END:VEVENT
BEGIN:VEVENT
DTSTART;TZID=Australia/Sydney:20241113T170000
DTEND;TZID=Australia/Sydney:20241113T180000
DTSTAMP:20260421T195958
CREATED:20241021T231751Z
LAST-MODIFIED:20241021T231751Z
UID:10000222-1731517200-1731520800@scarletalliance.org.au
SUMMARY:Respect Inc Sistahs of the Pole
DESCRIPTION:Free\, private and confidential stripper-only sharing circle held every second Wednesday of the month from 4pm to 5pm. RSVP to info@respect.org.au.
URL:https://scarletalliance.org.au/event/respect-inc-sistahs-of-the-pole-2/2024-11-13/
LOCATION:Queensland\, QLD\, Australia
CATEGORIES:Peer Education
ATTACH;FMTTYPE=image/png:https://scarletalliance.org.au/wp-content/uploads/Screenshot-2024-10-22-101601.png
ORGANIZER;CN="Respect QLD":MAILTO:info@respectqld.org.au
END:VEVENT
BEGIN:VEVENT
DTSTART;TZID=Australia/Sydney:20241009T170000
DTEND;TZID=Australia/Sydney:20241009T180000
DTSTAMP:20260421T195958
CREATED:20240221T021231Z
LAST-MODIFIED:20240221T053239Z
UID:10000221-1728493200-1728496800@scarletalliance.org.au
SUMMARY:Respect Inc Sistahs of the Pole
DESCRIPTION:Respect Inc is now holding a monthly\, stripper-only sharing circle! These groups will be facilitated with a peer educator. Meetings will be held on the third Wednesday of the month\, 4-5pm\, both online and in the Meanjin office. RSVP at info@respectqld.org.au.
URL:https://scarletalliance.org.au/event/respect-inc-sistahs-of-the-pole/2024-10-09/
LOCATION:Queensland\, QLD\, Australia
CATEGORIES:Peer Education
ATTACH;FMTTYPE=image/jpeg:https://scarletalliance.org.au/wp-content/uploads/Sistahs-of-the-pole-sharing-circle.jpg
ORGANIZER;CN="Respect QLD":MAILTO:info@respectqld.org.au
END:VEVENT
BEGIN:VEVENT
DTSTART;TZID=Australia/Sydney:20241008T120000
DTEND;TZID=Australia/Sydney:20241008T130000
DTSTAMP:20260421T195958
CREATED:20240209T025112Z
LAST-MODIFIED:20240221T053233Z
UID:10000200-1728388800-1728392400@scarletalliance.org.au
SUMMARY:Respect Inc Monthly Workshop
DESCRIPTION:These are sex worker only workshops\, for more information or to RSVP contact Respect Inc. \nCheck the Workshops page to double check dates and times.
URL:https://scarletalliance.org.au/event/respect-inc-monthly-workshop/2024-10-08/
LOCATION:Queensland\, QLD\, Australia
CATEGORIES:Peer Education
ATTACH;FMTTYPE=image/jpeg:https://scarletalliance.org.au/wp-content/uploads/Respect-Inc-logo.jpg
ORGANIZER;CN="Respect QLD":MAILTO:info@respectqld.org.au
END:VEVENT
BEGIN:VEVENT
DTSTART;TZID=Australia/Sydney:20240911T160000
DTEND;TZID=Australia/Sydney:20240911T170000
DTSTAMP:20260421T195958
CREATED:20240221T021231Z
LAST-MODIFIED:20240221T053239Z
UID:10000220-1726070400-1726074000@scarletalliance.org.au
SUMMARY:Respect Inc Sistahs of the Pole
DESCRIPTION:Respect Inc is now holding a monthly\, stripper-only sharing circle! These groups will be facilitated with a peer educator. Meetings will be held on the third Wednesday of the month\, 4-5pm\, both online and in the Meanjin office. RSVP at info@respectqld.org.au.
URL:https://scarletalliance.org.au/event/respect-inc-sistahs-of-the-pole/2024-09-11/
LOCATION:Queensland\, QLD\, Australia
CATEGORIES:Peer Education
ATTACH;FMTTYPE=image/jpeg:https://scarletalliance.org.au/wp-content/uploads/Sistahs-of-the-pole-sharing-circle.jpg
ORGANIZER;CN="Respect QLD":MAILTO:info@respectqld.org.au
END:VEVENT
BEGIN:VEVENT
DTSTART;TZID=Australia/Sydney:20240910T110000
DTEND;TZID=Australia/Sydney:20240910T120000
DTSTAMP:20260421T195958
CREATED:20240209T025112Z
LAST-MODIFIED:20240221T053233Z
UID:10000199-1725966000-1725969600@scarletalliance.org.au
SUMMARY:Respect Inc Monthly Workshop
DESCRIPTION:These are sex worker only workshops\, for more information or to RSVP contact Respect Inc. \nCheck the Workshops page to double check dates and times.
URL:https://scarletalliance.org.au/event/respect-inc-monthly-workshop/2024-09-10/
LOCATION:Queensland\, QLD\, Australia
CATEGORIES:Peer Education
ATTACH;FMTTYPE=image/jpeg:https://scarletalliance.org.au/wp-content/uploads/Respect-Inc-logo.jpg
ORGANIZER;CN="Respect QLD":MAILTO:info@respectqld.org.au
END:VEVENT
BEGIN:VEVENT
DTSTART;TZID=Australia/Sydney:20240814T160000
DTEND;TZID=Australia/Sydney:20240814T170000
DTSTAMP:20260421T195958
CREATED:20240221T021231Z
LAST-MODIFIED:20240221T053239Z
UID:10000219-1723651200-1723654800@scarletalliance.org.au
SUMMARY:Respect Inc Sistahs of the Pole
DESCRIPTION:Respect Inc is now holding a monthly\, stripper-only sharing circle! These groups will be facilitated with a peer educator. Meetings will be held on the third Wednesday of the month\, 4-5pm\, both online and in the Meanjin office. RSVP at info@respectqld.org.au.
URL:https://scarletalliance.org.au/event/respect-inc-sistahs-of-the-pole/2024-08-14/
LOCATION:Queensland\, QLD\, Australia
CATEGORIES:Peer Education
ATTACH;FMTTYPE=image/jpeg:https://scarletalliance.org.au/wp-content/uploads/Sistahs-of-the-pole-sharing-circle.jpg
ORGANIZER;CN="Respect QLD":MAILTO:info@respectqld.org.au
END:VEVENT
BEGIN:VEVENT
DTSTART;TZID=Australia/Sydney:20240813T110000
DTEND;TZID=Australia/Sydney:20240813T120000
DTSTAMP:20260421T195958
CREATED:20240209T025112Z
LAST-MODIFIED:20240221T053233Z
UID:10000198-1723546800-1723550400@scarletalliance.org.au
SUMMARY:Respect Inc Monthly Workshop
DESCRIPTION:These are sex worker only workshops\, for more information or to RSVP contact Respect Inc. \nCheck the Workshops page to double check dates and times.
URL:https://scarletalliance.org.au/event/respect-inc-monthly-workshop/2024-08-13/
LOCATION:Queensland\, QLD\, Australia
CATEGORIES:Peer Education
ATTACH;FMTTYPE=image/jpeg:https://scarletalliance.org.au/wp-content/uploads/Respect-Inc-logo.jpg
ORGANIZER;CN="Respect QLD":MAILTO:info@respectqld.org.au
END:VEVENT
BEGIN:VEVENT
DTSTART;TZID=Australia/Sydney:20240710T160000
DTEND;TZID=Australia/Sydney:20240710T170000
DTSTAMP:20260421T195958
CREATED:20240221T021231Z
LAST-MODIFIED:20240221T053239Z
UID:10000218-1720627200-1720630800@scarletalliance.org.au
SUMMARY:Respect Inc Sistahs of the Pole
DESCRIPTION:Respect Inc is now holding a monthly\, stripper-only sharing circle! These groups will be facilitated with a peer educator. Meetings will be held on the third Wednesday of the month\, 4-5pm\, both online and in the Meanjin office. RSVP at info@respectqld.org.au.
URL:https://scarletalliance.org.au/event/respect-inc-sistahs-of-the-pole/2024-07-10/
LOCATION:Queensland\, QLD\, Australia
CATEGORIES:Peer Education
ATTACH;FMTTYPE=image/jpeg:https://scarletalliance.org.au/wp-content/uploads/Sistahs-of-the-pole-sharing-circle.jpg
ORGANIZER;CN="Respect QLD":MAILTO:info@respectqld.org.au
END:VEVENT
BEGIN:VEVENT
DTSTART;TZID=Australia/Sydney:20240709T110000
DTEND;TZID=Australia/Sydney:20240709T120000
DTSTAMP:20260421T195959
CREATED:20240209T025112Z
LAST-MODIFIED:20240221T053233Z
UID:10000197-1720522800-1720526400@scarletalliance.org.au
SUMMARY:Respect Inc Monthly Workshop
DESCRIPTION:These are sex worker only workshops\, for more information or to RSVP contact Respect Inc. \nCheck the Workshops page to double check dates and times.
URL:https://scarletalliance.org.au/event/respect-inc-monthly-workshop/2024-07-09/
LOCATION:Queensland\, QLD\, Australia
CATEGORIES:Peer Education
ATTACH;FMTTYPE=image/jpeg:https://scarletalliance.org.au/wp-content/uploads/Respect-Inc-logo.jpg
ORGANIZER;CN="Respect QLD":MAILTO:info@respectqld.org.au
END:VEVENT
BEGIN:VEVENT
DTSTART;TZID=Australia/Sydney:20240612T160000
DTEND;TZID=Australia/Sydney:20240612T170000
DTSTAMP:20260421T195959
CREATED:20240221T021231Z
LAST-MODIFIED:20240221T053239Z
UID:10000217-1718208000-1718211600@scarletalliance.org.au
SUMMARY:Respect Inc Sistahs of the Pole
DESCRIPTION:Respect Inc is now holding a monthly\, stripper-only sharing circle! These groups will be facilitated with a peer educator. Meetings will be held on the third Wednesday of the month\, 4-5pm\, both online and in the Meanjin office. RSVP at info@respectqld.org.au.
URL:https://scarletalliance.org.au/event/respect-inc-sistahs-of-the-pole/2024-06-12/
LOCATION:Queensland\, QLD\, Australia
CATEGORIES:Peer Education
ATTACH;FMTTYPE=image/jpeg:https://scarletalliance.org.au/wp-content/uploads/Sistahs-of-the-pole-sharing-circle.jpg
ORGANIZER;CN="Respect QLD":MAILTO:info@respectqld.org.au
END:VEVENT
BEGIN:VEVENT
DTSTART;TZID=Australia/Sydney:20240611T110000
DTEND;TZID=Australia/Sydney:20240611T120000
DTSTAMP:20260421T195959
CREATED:20240209T025112Z
LAST-MODIFIED:20240221T053233Z
UID:10000196-1718103600-1718107200@scarletalliance.org.au
SUMMARY:Respect Inc Monthly Workshop
DESCRIPTION:These are sex worker only workshops\, for more information or to RSVP contact Respect Inc. \nCheck the Workshops page to double check dates and times.
URL:https://scarletalliance.org.au/event/respect-inc-monthly-workshop/2024-06-11/
LOCATION:Queensland\, QLD\, Australia
CATEGORIES:Peer Education
ATTACH;FMTTYPE=image/jpeg:https://scarletalliance.org.au/wp-content/uploads/Respect-Inc-logo.jpg
ORGANIZER;CN="Respect QLD":MAILTO:info@respectqld.org.au
END:VEVENT
BEGIN:VEVENT
DTSTART;TZID=Australia/Sydney:20240514T110000
DTEND;TZID=Australia/Sydney:20240514T120000
DTSTAMP:20260421T195959
CREATED:20240209T025112Z
LAST-MODIFIED:20240221T053233Z
UID:10000195-1715684400-1715688000@scarletalliance.org.au
SUMMARY:Respect Inc Monthly Workshop
DESCRIPTION:These are sex worker only workshops\, for more information or to RSVP contact Respect Inc. \nCheck the Workshops page to double check dates and times.
URL:https://scarletalliance.org.au/event/respect-inc-monthly-workshop/2024-05-14/
LOCATION:Queensland\, QLD\, Australia
CATEGORIES:Peer Education
ATTACH;FMTTYPE=image/jpeg:https://scarletalliance.org.au/wp-content/uploads/Respect-Inc-logo.jpg
ORGANIZER;CN="Respect QLD":MAILTO:info@respectqld.org.au
END:VEVENT
BEGIN:VEVENT
DTSTART;TZID=Australia/Sydney:20240508T160000
DTEND;TZID=Australia/Sydney:20240508T170000
DTSTAMP:20260421T195959
CREATED:20240221T021231Z
LAST-MODIFIED:20240221T053239Z
UID:10000216-1715184000-1715187600@scarletalliance.org.au
SUMMARY:Respect Inc Sistahs of the Pole
DESCRIPTION:Respect Inc is now holding a monthly\, stripper-only sharing circle! These groups will be facilitated with a peer educator. Meetings will be held on the third Wednesday of the month\, 4-5pm\, both online and in the Meanjin office. RSVP at info@respectqld.org.au.
URL:https://scarletalliance.org.au/event/respect-inc-sistahs-of-the-pole/2024-05-08/
LOCATION:Queensland\, QLD\, Australia
CATEGORIES:Peer Education
ATTACH;FMTTYPE=image/jpeg:https://scarletalliance.org.au/wp-content/uploads/Sistahs-of-the-pole-sharing-circle.jpg
ORGANIZER;CN="Respect QLD":MAILTO:info@respectqld.org.au
END:VEVENT
BEGIN:VEVENT
DTSTART;TZID=Australia/Sydney:20240410T160000
DTEND;TZID=Australia/Sydney:20240410T170000
DTSTAMP:20260421T195959
CREATED:20240221T021231Z
LAST-MODIFIED:20240221T053239Z
UID:10000215-1712764800-1712768400@scarletalliance.org.au
SUMMARY:Respect Inc Sistahs of the Pole
DESCRIPTION:Respect Inc is now holding a monthly\, stripper-only sharing circle! These groups will be facilitated with a peer educator. Meetings will be held on the third Wednesday of the month\, 4-5pm\, both online and in the Meanjin office. RSVP at info@respectqld.org.au.
URL:https://scarletalliance.org.au/event/respect-inc-sistahs-of-the-pole/2024-04-10/
LOCATION:Queensland\, QLD\, Australia
CATEGORIES:Peer Education
ATTACH;FMTTYPE=image/jpeg:https://scarletalliance.org.au/wp-content/uploads/Sistahs-of-the-pole-sharing-circle.jpg
ORGANIZER;CN="Respect QLD":MAILTO:info@respectqld.org.au
END:VEVENT
BEGIN:VEVENT
DTSTART;TZID=Australia/Sydney:20240409T110000
DTEND;TZID=Australia/Sydney:20240409T120000
DTSTAMP:20260421T195959
CREATED:20240209T025112Z
LAST-MODIFIED:20240221T053233Z
UID:10000194-1712660400-1712664000@scarletalliance.org.au
SUMMARY:Respect Inc Monthly Workshop
DESCRIPTION:These are sex worker only workshops\, for more information or to RSVP contact Respect Inc. \nCheck the Workshops page to double check dates and times.
URL:https://scarletalliance.org.au/event/respect-inc-monthly-workshop/2024-04-09/
LOCATION:Queensland\, QLD\, Australia
CATEGORIES:Peer Education
ATTACH;FMTTYPE=image/jpeg:https://scarletalliance.org.au/wp-content/uploads/Respect-Inc-logo.jpg
ORGANIZER;CN="Respect QLD":MAILTO:info@respectqld.org.au
END:VEVENT
BEGIN:VEVENT
DTSTART;TZID=Australia/Sydney:20240313T170000
DTEND;TZID=Australia/Sydney:20240313T180000
DTSTAMP:20260421T195959
CREATED:20240221T021231Z
LAST-MODIFIED:20240221T053239Z
UID:10000214-1710349200-1710352800@scarletalliance.org.au
SUMMARY:Respect Inc Sistahs of the Pole
DESCRIPTION:Respect Inc is now holding a monthly\, stripper-only sharing circle! These groups will be facilitated with a peer educator. Meetings will be held on the third Wednesday of the month\, 4-5pm\, both online and in the Meanjin office. RSVP at info@respectqld.org.au.
URL:https://scarletalliance.org.au/event/respect-inc-sistahs-of-the-pole/2024-03-13/
LOCATION:Queensland\, QLD\, Australia
CATEGORIES:Peer Education
ATTACH;FMTTYPE=image/jpeg:https://scarletalliance.org.au/wp-content/uploads/Sistahs-of-the-pole-sharing-circle.jpg
ORGANIZER;CN="Respect QLD":MAILTO:info@respectqld.org.au
END:VEVENT
BEGIN:VEVENT
DTSTART;TZID=Australia/Sydney:20240312T120000
DTEND;TZID=Australia/Sydney:20240312T130000
DTSTAMP:20260421T195959
CREATED:20240209T025112Z
LAST-MODIFIED:20240221T053233Z
UID:10000193-1710244800-1710248400@scarletalliance.org.au
SUMMARY:Respect Inc Monthly Workshop
DESCRIPTION:These are sex worker only workshops\, for more information or to RSVP contact Respect Inc. \nCheck the Workshops page to double check dates and times.
URL:https://scarletalliance.org.au/event/respect-inc-monthly-workshop/2024-03-12/
LOCATION:Queensland\, QLD\, Australia
CATEGORIES:Peer Education
ATTACH;FMTTYPE=image/jpeg:https://scarletalliance.org.au/wp-content/uploads/Respect-Inc-logo.jpg
ORGANIZER;CN="Respect QLD":MAILTO:info@respectqld.org.au
END:VEVENT
END:VCALENDAR