BEGIN:VCALENDAR
VERSION:2.0
PRODID:-//Scarlet Alliance - ECPv6.15.12.2//NONSGML v1.0//EN
CALSCALE:GREGORIAN
METHOD:PUBLISH
X-ORIGINAL-URL:https://scarletalliance.org.au
X-WR-CALDESC:Events for Scarlet Alliance
REFRESH-INTERVAL;VALUE=DURATION:PT1H
X-Robots-Tag:noindex
X-PUBLISHED-TTL:PT1H
BEGIN:VTIMEZONE
TZID:Australia/Sydney
BEGIN:STANDARD
TZOFFSETFROM:+1100
TZOFFSETTO:+1000
TZNAME:AEST
DTSTART:20230401T160000
END:STANDARD
BEGIN:DAYLIGHT
TZOFFSETFROM:+1000
TZOFFSETTO:+1100
TZNAME:AEDT
DTSTART:20230930T160000
END:DAYLIGHT
BEGIN:STANDARD
TZOFFSETFROM:+1100
TZOFFSETTO:+1000
TZNAME:AEST
DTSTART:20240406T160000
END:STANDARD
BEGIN:DAYLIGHT
TZOFFSETFROM:+1000
TZOFFSETTO:+1100
TZNAME:AEDT
DTSTART:20241005T160000
END:DAYLIGHT
BEGIN:STANDARD
TZOFFSETFROM:+1100
TZOFFSETTO:+1000
TZNAME:AEST
DTSTART:20250405T160000
END:STANDARD
BEGIN:DAYLIGHT
TZOFFSETFROM:+1000
TZOFFSETTO:+1100
TZNAME:AEDT
DTSTART:20251004T160000
END:DAYLIGHT
END:VTIMEZONE
BEGIN:VEVENT
DTSTART;TZID=Australia/Sydney:20241219T140000
DTEND;TZID=Australia/Sydney:20241219T170000
DTSTAMP:20260421T233419
CREATED:20240221T023535Z
LAST-MODIFIED:20240221T053245Z
UID:10000245-1734616800-1734627600@scarletalliance.org.au
SUMMARY:Respect Inc Tea and Tarts
DESCRIPTION:Come in for supplies\, a chat\, cup of tea\, or join us monthly and bring a plate for Tea and Tarts (sex worker only\, current and retired). There is an entrance off Florence Street (main road)\, and a second entrance and parking around the back off McLeod Street.
URL:https://scarletalliance.org.au/event/respect-inc-tea-and-tarts/2024-12-19/
LOCATION:Respect Inc Gimuy (Cairns) Office\, 7/24 Florence Street\, Cairns\, QLD\, 4870\, Australia
CATEGORIES:Peer Education
ATTACH;FMTTYPE=image/jpeg:https://scarletalliance.org.au/wp-content/uploads/Tea-and-Tarts.jpg
ORGANIZER;CN="Respect QLD":MAILTO:info@respectqld.org.au
END:VEVENT
BEGIN:VEVENT
DTSTART;TZID=Australia/Sydney:20241121T140000
DTEND;TZID=Australia/Sydney:20241121T170000
DTSTAMP:20260421T233419
CREATED:20240221T023535Z
LAST-MODIFIED:20240221T053245Z
UID:10000244-1732197600-1732208400@scarletalliance.org.au
SUMMARY:Respect Inc Tea and Tarts
DESCRIPTION:Come in for supplies\, a chat\, cup of tea\, or join us monthly and bring a plate for Tea and Tarts (sex worker only\, current and retired). There is an entrance off Florence Street (main road)\, and a second entrance and parking around the back off McLeod Street.
URL:https://scarletalliance.org.au/event/respect-inc-tea-and-tarts/2024-11-21/
LOCATION:Respect Inc Gimuy (Cairns) Office\, 7/24 Florence Street\, Cairns\, QLD\, 4870\, Australia
CATEGORIES:Peer Education
ATTACH;FMTTYPE=image/jpeg:https://scarletalliance.org.au/wp-content/uploads/Tea-and-Tarts.jpg
ORGANIZER;CN="Respect QLD":MAILTO:info@respectqld.org.au
END:VEVENT
BEGIN:VEVENT
DTSTART;TZID=Australia/Sydney:20241017T140000
DTEND;TZID=Australia/Sydney:20241017T170000
DTSTAMP:20260421T233419
CREATED:20240221T023535Z
LAST-MODIFIED:20240221T053245Z
UID:10000243-1729173600-1729184400@scarletalliance.org.au
SUMMARY:Respect Inc Tea and Tarts
DESCRIPTION:Come in for supplies\, a chat\, cup of tea\, or join us monthly and bring a plate for Tea and Tarts (sex worker only\, current and retired). There is an entrance off Florence Street (main road)\, and a second entrance and parking around the back off McLeod Street.
URL:https://scarletalliance.org.au/event/respect-inc-tea-and-tarts/2024-10-17/
LOCATION:Respect Inc Gimuy (Cairns) Office\, 7/24 Florence Street\, Cairns\, QLD\, 4870\, Australia
CATEGORIES:Peer Education
ATTACH;FMTTYPE=image/jpeg:https://scarletalliance.org.au/wp-content/uploads/Tea-and-Tarts.jpg
ORGANIZER;CN="Respect QLD":MAILTO:info@respectqld.org.au
END:VEVENT
BEGIN:VEVENT
DTSTART;TZID=Australia/Sydney:20240919T130000
DTEND;TZID=Australia/Sydney:20240919T160000
DTSTAMP:20260421T233419
CREATED:20240221T023535Z
LAST-MODIFIED:20240221T053245Z
UID:10000242-1726750800-1726761600@scarletalliance.org.au
SUMMARY:Respect Inc Tea and Tarts
DESCRIPTION:Come in for supplies\, a chat\, cup of tea\, or join us monthly and bring a plate for Tea and Tarts (sex worker only\, current and retired). There is an entrance off Florence Street (main road)\, and a second entrance and parking around the back off McLeod Street.
URL:https://scarletalliance.org.au/event/respect-inc-tea-and-tarts/2024-09-19/
LOCATION:Respect Inc Gimuy (Cairns) Office\, 7/24 Florence Street\, Cairns\, QLD\, 4870\, Australia
CATEGORIES:Peer Education
ATTACH;FMTTYPE=image/jpeg:https://scarletalliance.org.au/wp-content/uploads/Tea-and-Tarts.jpg
ORGANIZER;CN="Respect QLD":MAILTO:info@respectqld.org.au
END:VEVENT
BEGIN:VEVENT
DTSTART;TZID=Australia/Sydney:20240815T130000
DTEND;TZID=Australia/Sydney:20240815T160000
DTSTAMP:20260421T233419
CREATED:20240221T023535Z
LAST-MODIFIED:20240221T053245Z
UID:10000241-1723726800-1723737600@scarletalliance.org.au
SUMMARY:Respect Inc Tea and Tarts
DESCRIPTION:Come in for supplies\, a chat\, cup of tea\, or join us monthly and bring a plate for Tea and Tarts (sex worker only\, current and retired). There is an entrance off Florence Street (main road)\, and a second entrance and parking around the back off McLeod Street.
URL:https://scarletalliance.org.au/event/respect-inc-tea-and-tarts/2024-08-15/
LOCATION:Respect Inc Gimuy (Cairns) Office\, 7/24 Florence Street\, Cairns\, QLD\, 4870\, Australia
CATEGORIES:Peer Education
ATTACH;FMTTYPE=image/jpeg:https://scarletalliance.org.au/wp-content/uploads/Tea-and-Tarts.jpg
ORGANIZER;CN="Respect QLD":MAILTO:info@respectqld.org.au
END:VEVENT
BEGIN:VEVENT
DTSTART;TZID=Australia/Sydney:20240801T143000
DTEND;TZID=Australia/Sydney:20240801T163000
DTSTAMP:20260421T233419
CREATED:20240730T003219Z
LAST-MODIFIED:20240730T003219Z
UID:10000450-1722522600-1722529800@scarletalliance.org.au
SUMMARY:Respect QLD Decrim Day Sex Worker Afternoon Tea
DESCRIPTION:Sex worker-only afternoon tea to celebrate Decrim Day! Bring a plate to share if you like. \nWHEN: 1 August 2024 from 2.30-4.30pm\nWHERE: at your local office in Brisbane\, Gold Coast or Cairns \nRSVP: info@respectqld.org.au\nMORE INFO: https://respectqld.org.au/contact-us/
URL:https://scarletalliance.org.au/event/respect-qld-decrim-day-sex-worker-afternoon-tea/
LOCATION:Respect Inc Meanjin (Brisbane) Office\, Level 1\, 76 Wickham St\, Fortitude Valley\, QLD\, 4006\, Australia
ATTACH;FMTTYPE=image/png:https://scarletalliance.org.au/wp-content/uploads/Screenshot-2024-07-30-102427.png
ORGANIZER;CN="Respect QLD":MAILTO:info@respectqld.org.au
END:VEVENT
BEGIN:VEVENT
DTSTART;TZID=Australia/Sydney:20240718T130000
DTEND;TZID=Australia/Sydney:20240718T160000
DTSTAMP:20260421T233419
CREATED:20240221T023535Z
LAST-MODIFIED:20240221T053245Z
UID:10000240-1721307600-1721318400@scarletalliance.org.au
SUMMARY:Respect Inc Tea and Tarts
DESCRIPTION:Come in for supplies\, a chat\, cup of tea\, or join us monthly and bring a plate for Tea and Tarts (sex worker only\, current and retired). There is an entrance off Florence Street (main road)\, and a second entrance and parking around the back off McLeod Street.
URL:https://scarletalliance.org.au/event/respect-inc-tea-and-tarts/2024-07-18/
LOCATION:Respect Inc Gimuy (Cairns) Office\, 7/24 Florence Street\, Cairns\, QLD\, 4870\, Australia
CATEGORIES:Peer Education
ATTACH;FMTTYPE=image/jpeg:https://scarletalliance.org.au/wp-content/uploads/Tea-and-Tarts.jpg
ORGANIZER;CN="Respect QLD":MAILTO:info@respectqld.org.au
END:VEVENT
BEGIN:VEVENT
DTSTART;TZID=Australia/Sydney:20240620T130000
DTEND;TZID=Australia/Sydney:20240620T160000
DTSTAMP:20260421T233419
CREATED:20240221T023535Z
LAST-MODIFIED:20240221T053245Z
UID:10000239-1718888400-1718899200@scarletalliance.org.au
SUMMARY:Respect Inc Tea and Tarts
DESCRIPTION:Come in for supplies\, a chat\, cup of tea\, or join us monthly and bring a plate for Tea and Tarts (sex worker only\, current and retired). There is an entrance off Florence Street (main road)\, and a second entrance and parking around the back off McLeod Street.
URL:https://scarletalliance.org.au/event/respect-inc-tea-and-tarts/2024-06-20/
LOCATION:Respect Inc Gimuy (Cairns) Office\, 7/24 Florence Street\, Cairns\, QLD\, 4870\, Australia
CATEGORIES:Peer Education
ATTACH;FMTTYPE=image/jpeg:https://scarletalliance.org.au/wp-content/uploads/Tea-and-Tarts.jpg
ORGANIZER;CN="Respect QLD":MAILTO:info@respectqld.org.au
END:VEVENT
BEGIN:VEVENT
DTSTART;TZID=Australia/Sydney:20240516T130000
DTEND;TZID=Australia/Sydney:20240516T160000
DTSTAMP:20260421T233419
CREATED:20240221T023535Z
LAST-MODIFIED:20240221T053245Z
UID:10000238-1715864400-1715875200@scarletalliance.org.au
SUMMARY:Respect Inc Tea and Tarts
DESCRIPTION:Come in for supplies\, a chat\, cup of tea\, or join us monthly and bring a plate for Tea and Tarts (sex worker only\, current and retired). There is an entrance off Florence Street (main road)\, and a second entrance and parking around the back off McLeod Street.
URL:https://scarletalliance.org.au/event/respect-inc-tea-and-tarts/2024-05-16/
LOCATION:Respect Inc Gimuy (Cairns) Office\, 7/24 Florence Street\, Cairns\, QLD\, 4870\, Australia
CATEGORIES:Peer Education
ATTACH;FMTTYPE=image/jpeg:https://scarletalliance.org.au/wp-content/uploads/Tea-and-Tarts.jpg
ORGANIZER;CN="Respect QLD":MAILTO:info@respectqld.org.au
END:VEVENT
BEGIN:VEVENT
DTSTART;TZID=Australia/Sydney:20240418T130000
DTEND;TZID=Australia/Sydney:20240418T160000
DTSTAMP:20260421T233419
CREATED:20240221T023535Z
LAST-MODIFIED:20240221T053245Z
UID:10000237-1713445200-1713456000@scarletalliance.org.au
SUMMARY:Respect Inc Tea and Tarts
DESCRIPTION:Come in for supplies\, a chat\, cup of tea\, or join us monthly and bring a plate for Tea and Tarts (sex worker only\, current and retired). There is an entrance off Florence Street (main road)\, and a second entrance and parking around the back off McLeod Street.
URL:https://scarletalliance.org.au/event/respect-inc-tea-and-tarts/2024-04-18/
LOCATION:Respect Inc Gimuy (Cairns) Office\, 7/24 Florence Street\, Cairns\, QLD\, 4870\, Australia
CATEGORIES:Peer Education
ATTACH;FMTTYPE=image/jpeg:https://scarletalliance.org.au/wp-content/uploads/Tea-and-Tarts.jpg
ORGANIZER;CN="Respect QLD":MAILTO:info@respectqld.org.au
END:VEVENT
BEGIN:VEVENT
DTSTART;TZID=Australia/Sydney:20240321T140000
DTEND;TZID=Australia/Sydney:20240321T170000
DTSTAMP:20260421T233419
CREATED:20240221T023535Z
LAST-MODIFIED:20240221T053245Z
UID:10000236-1711029600-1711040400@scarletalliance.org.au
SUMMARY:Respect Inc Tea and Tarts
DESCRIPTION:Come in for supplies\, a chat\, cup of tea\, or join us monthly and bring a plate for Tea and Tarts (sex worker only\, current and retired). There is an entrance off Florence Street (main road)\, and a second entrance and parking around the back off McLeod Street.
URL:https://scarletalliance.org.au/event/respect-inc-tea-and-tarts/2024-03-21/
LOCATION:Respect Inc Gimuy (Cairns) Office\, 7/24 Florence Street\, Cairns\, QLD\, 4870\, Australia
CATEGORIES:Peer Education
ATTACH;FMTTYPE=image/jpeg:https://scarletalliance.org.au/wp-content/uploads/Tea-and-Tarts.jpg
ORGANIZER;CN="Respect QLD":MAILTO:info@respectqld.org.au
END:VEVENT
BEGIN:VEVENT
DTSTART;TZID=Australia/Sydney:20240215T140000
DTEND;TZID=Australia/Sydney:20240215T170000
DTSTAMP:20260421T233419
CREATED:20240221T023535Z
LAST-MODIFIED:20240221T053245Z
UID:10000235-1708005600-1708016400@scarletalliance.org.au
SUMMARY:Respect Inc Tea and Tarts
DESCRIPTION:Come in for supplies\, a chat\, cup of tea\, or join us monthly and bring a plate for Tea and Tarts (sex worker only\, current and retired). There is an entrance off Florence Street (main road)\, and a second entrance and parking around the back off McLeod Street.
URL:https://scarletalliance.org.au/event/respect-inc-tea-and-tarts/2024-02-15/
LOCATION:Respect Inc Gimuy (Cairns) Office\, 7/24 Florence Street\, Cairns\, QLD\, 4870\, Australia
CATEGORIES:Peer Education
ATTACH;FMTTYPE=image/jpeg:https://scarletalliance.org.au/wp-content/uploads/Tea-and-Tarts.jpg
ORGANIZER;CN="Respect QLD":MAILTO:info@respectqld.org.au
END:VEVENT
END:VCALENDAR